BEGIN:VCALENDAR
VERSION:2.0
PRODID:-//Lebanon Community Library - ECPv6.15.17.1//NONSGML v1.0//EN
CALSCALE:GREGORIAN
METHOD:PUBLISH
X-WR-CALNAME:Lebanon Community Library
X-ORIGINAL-URL:https://lebanon.lclibs.org
X-WR-CALDESC:Events for Lebanon Community Library
REFRESH-INTERVAL;VALUE=DURATION:PT1H
X-Robots-Tag:noindex
X-PUBLISHED-TTL:PT1H
BEGIN:VTIMEZONE
TZID:America/New_York
BEGIN:DAYLIGHT
TZOFFSETFROM:-0500
TZOFFSETTO:-0400
TZNAME:EDT
DTSTART:20240310T070000
END:DAYLIGHT
BEGIN:STANDARD
TZOFFSETFROM:-0400
TZOFFSETTO:-0500
TZNAME:EST
DTSTART:20241103T060000
END:STANDARD
BEGIN:DAYLIGHT
TZOFFSETFROM:-0500
TZOFFSETTO:-0400
TZNAME:EDT
DTSTART:20250309T070000
END:DAYLIGHT
BEGIN:STANDARD
TZOFFSETFROM:-0400
TZOFFSETTO:-0500
TZNAME:EST
DTSTART:20251102T060000
END:STANDARD
BEGIN:DAYLIGHT
TZOFFSETFROM:-0500
TZOFFSETTO:-0400
TZNAME:EDT
DTSTART:20260308T070000
END:DAYLIGHT
BEGIN:STANDARD
TZOFFSETFROM:-0400
TZOFFSETTO:-0500
TZNAME:EST
DTSTART:20261101T060000
END:STANDARD
BEGIN:DAYLIGHT
TZOFFSETFROM:-0500
TZOFFSETTO:-0400
TZNAME:EDT
DTSTART:20270314T070000
END:DAYLIGHT
BEGIN:STANDARD
TZOFFSETFROM:-0400
TZOFFSETTO:-0500
TZNAME:EST
DTSTART:20271107T060000
END:STANDARD
END:VTIMEZONE
BEGIN:VEVENT
DTSTART;TZID=America/New_York:20260114T160000
DTEND;TZID=America/New_York:20260114T170000
DTSTAMP:20260420T152539
CREATED:20251217T231744Z
LAST-MODIFIED:20260225T170929Z
UID:10005035-1768406400-1768410000@lebanon.lclibs.org
SUMMARY:Paws to Read
DESCRIPTION:Kids in grades 1-5 are invited to sign up for a 20 minute session to read to Leo the golden retriever\, a certified therapy dog. \nReading out loud is an excellent way for kids to improve their reading skills and dogs make great listeners! \nFor more information and to register stop into the library\, call 717-273-7624 or email children@lclibs.org
URL:https://lebanon.lclibs.org/event/paws-to-read-2/2026-01-14/
LOCATION:Lebanon Community Library\, 125 N. 7th St.\, Lebanon\, PA\, 17046\, United States
CATEGORIES:Children,Lebanon Community Library
ORGANIZER;CN="Sarah Annibali":MAILTO:children@lclibs.org
GEO:40.3410676;-76.4227409
X-APPLE-STRUCTURED-LOCATION;VALUE=URI;X-ADDRESS=Lebanon Community Library 125 N. 7th St. Lebanon PA 17046 United States;X-APPLE-RADIUS=500;X-TITLE=125 N. 7th St.:geo:-76.4227409,40.3410676
END:VEVENT
BEGIN:VEVENT
DTSTART;TZID=America/New_York:20260107T160000
DTEND;TZID=America/New_York:20260107T170000
DTSTAMP:20260420T152539
CREATED:20251217T231744Z
LAST-MODIFIED:20260225T170929Z
UID:10005034-1767801600-1767805200@lebanon.lclibs.org
SUMMARY:Paws to Read
DESCRIPTION:Kids in grades 1-5 are invited to sign up for a 20 minute session to read to Leo the golden retriever\, a certified therapy dog. \nReading out loud is an excellent way for kids to improve their reading skills and dogs make great listeners! \nFor more information and to register stop into the library\, call 717-273-7624 or email children@lclibs.org
URL:https://lebanon.lclibs.org/event/paws-to-read-2/2026-01-07/
LOCATION:Lebanon Community Library\, 125 N. 7th St.\, Lebanon\, PA\, 17046\, United States
CATEGORIES:Children,Lebanon Community Library
ORGANIZER;CN="Sarah Annibali":MAILTO:children@lclibs.org
GEO:40.3410676;-76.4227409
X-APPLE-STRUCTURED-LOCATION;VALUE=URI;X-ADDRESS=Lebanon Community Library 125 N. 7th St. Lebanon PA 17046 United States;X-APPLE-RADIUS=500;X-TITLE=125 N. 7th St.:geo:-76.4227409,40.3410676
END:VEVENT
BEGIN:VEVENT
DTSTART;TZID=America/New_York:20251230T120000
DTEND;TZID=America/New_York:20251230T160000
DTSTAMP:20260420T152539
CREATED:20251217T234110Z
LAST-MODIFIED:20251217T234110Z
UID:10005069-1767096000-1767110400@lebanon.lclibs.org
SUMMARY:Family Game and Activity Day
DESCRIPTION:  \nStop in for board games\, LEGOs and a Winter craft!  No registration is required.  Activities are most appropriate for ages 4 and up\, but all are welcome.
URL:https://lebanon.lclibs.org/event/family-game-and-activity-day-2/2025-12-30/
LOCATION:Lebanon Community Library\, 125 N. 7th St.\, Lebanon\, PA\, 17046\, United States
CATEGORIES:Children,Family Program,Lebanon Community Library
ORGANIZER;CN="Sarah Annibali":MAILTO:children@lclibs.org
GEO:40.3410676;-76.4227409
X-APPLE-STRUCTURED-LOCATION;VALUE=URI;X-ADDRESS=Lebanon Community Library 125 N. 7th St. Lebanon PA 17046 United States;X-APPLE-RADIUS=500;X-TITLE=125 N. 7th St.:geo:-76.4227409,40.3410676
END:VEVENT
BEGIN:VEVENT
DTSTART;TZID=America/New_York:20251229T120000
DTEND;TZID=America/New_York:20251229T160000
DTSTAMP:20260420T152539
CREATED:20251217T234110Z
LAST-MODIFIED:20251217T234110Z
UID:10005068-1767009600-1767024000@lebanon.lclibs.org
SUMMARY:Family Game and Activity Day
DESCRIPTION:  \nStop in for board games\, LEGOs and a Winter craft!  No registration is required.  Activities are most appropriate for ages 4 and up\, but all are welcome.
URL:https://lebanon.lclibs.org/event/family-game-and-activity-day-2/2025-12-29/
LOCATION:Lebanon Community Library\, 125 N. 7th St.\, Lebanon\, PA\, 17046\, United States
CATEGORIES:Children,Family Program,Lebanon Community Library
ORGANIZER;CN="Sarah Annibali":MAILTO:children@lclibs.org
GEO:40.3410676;-76.4227409
X-APPLE-STRUCTURED-LOCATION;VALUE=URI;X-ADDRESS=Lebanon Community Library 125 N. 7th St. Lebanon PA 17046 United States;X-APPLE-RADIUS=500;X-TITLE=125 N. 7th St.:geo:-76.4227409,40.3410676
END:VEVENT
BEGIN:VEVENT
DTSTART;TZID=America/New_York:20251126T120000
DTEND;TZID=America/New_York:20251126T170000
DTSTAMP:20260420T152539
CREATED:20251111T205816Z
LAST-MODIFIED:20251111T205816Z
UID:10004908-1764158400-1764176400@lebanon.lclibs.org
SUMMARY:Family Game and Activity Day
DESCRIPTION:l \nStop in for board games\, LEGOs and a Thanksgiving craft!  No registration is required.  Activities are most appropriate for ages 4 and up\, but all are welcome.
URL:https://lebanon.lclibs.org/event/family-game-and-activity-day/
LOCATION:Lebanon Community Library\, 125 N. 7th St.\, Lebanon\, PA\, 17046\, United States
CATEGORIES:Children,Family Program,Lebanon Community Library
ORGANIZER;CN="Sarah Annibali":MAILTO:children@lclibs.org
GEO:40.3410676;-76.4227409
X-APPLE-STRUCTURED-LOCATION;VALUE=URI;X-ADDRESS=Lebanon Community Library 125 N. 7th St. Lebanon PA 17046 United States;X-APPLE-RADIUS=500;X-TITLE=125 N. 7th St.:geo:-76.4227409,40.3410676
END:VEVENT
BEGIN:VEVENT
DTSTART;TZID=America/New_York:20251021T180000
DTEND;TZID=America/New_York:20251021T190000
DTSTAMP:20260420T152539
CREATED:20250731T150704Z
LAST-MODIFIED:20250923T195213Z
UID:10004250-1761069600-1761073200@lebanon.lclibs.org
SUMMARY:Paws to Read
DESCRIPTION:Kids in grades 1-5 are invited to sign up for a 20 minute session to read to Charlie\, a certified therapy dog. \nReading out loud is an excellent way for kids to improve their reading skills and dogs make great listeners! \nFor more information and to register stop into the library\, call 717-273-7624 or email children@lclibs.org
URL:https://lebanon.lclibs.org/event/paws-to-read/2025-10-21/
LOCATION:Lebanon Community Library\, 125 N. 7th St.\, Lebanon\, PA\, 17046\, United States
CATEGORIES:Children,Lebanon Community Library
ORGANIZER;CN="Sarah Annibali":MAILTO:children@lclibs.org
GEO:40.3410676;-76.4227409
X-APPLE-STRUCTURED-LOCATION;VALUE=URI;X-ADDRESS=Lebanon Community Library 125 N. 7th St. Lebanon PA 17046 United States;X-APPLE-RADIUS=500;X-TITLE=125 N. 7th St.:geo:-76.4227409,40.3410676
END:VEVENT
BEGIN:VEVENT
DTSTART;TZID=America/New_York:20251014T180000
DTEND;TZID=America/New_York:20251014T190000
DTSTAMP:20260420T152539
CREATED:20250731T150704Z
LAST-MODIFIED:20250923T195213Z
UID:10004249-1760464800-1760468400@lebanon.lclibs.org
SUMMARY:Paws to Read
DESCRIPTION:Kids in grades 1-5 are invited to sign up for a 20 minute session to read to Charlie\, a certified therapy dog. \nReading out loud is an excellent way for kids to improve their reading skills and dogs make great listeners! \nFor more information and to register stop into the library\, call 717-273-7624 or email children@lclibs.org
URL:https://lebanon.lclibs.org/event/paws-to-read/2025-10-14/
LOCATION:Lebanon Community Library\, 125 N. 7th St.\, Lebanon\, PA\, 17046\, United States
CATEGORIES:Children,Lebanon Community Library
ORGANIZER;CN="Sarah Annibali":MAILTO:children@lclibs.org
GEO:40.3410676;-76.4227409
X-APPLE-STRUCTURED-LOCATION;VALUE=URI;X-ADDRESS=Lebanon Community Library 125 N. 7th St. Lebanon PA 17046 United States;X-APPLE-RADIUS=500;X-TITLE=125 N. 7th St.:geo:-76.4227409,40.3410676
END:VEVENT
BEGIN:VEVENT
DTSTART;TZID=America/New_York:20251007T180000
DTEND;TZID=America/New_York:20251007T190000
DTSTAMP:20260420T152539
CREATED:20250731T150704Z
LAST-MODIFIED:20250923T195213Z
UID:10004248-1759860000-1759863600@lebanon.lclibs.org
SUMMARY:Paws to Read
DESCRIPTION:Kids in grades 1-5 are invited to sign up for a 20 minute session to read to Charlie\, a certified therapy dog. \nReading out loud is an excellent way for kids to improve their reading skills and dogs make great listeners! \nFor more information and to register stop into the library\, call 717-273-7624 or email children@lclibs.org
URL:https://lebanon.lclibs.org/event/paws-to-read/2025-10-07/
LOCATION:Lebanon Community Library\, 125 N. 7th St.\, Lebanon\, PA\, 17046\, United States
CATEGORIES:Children,Lebanon Community Library
ORGANIZER;CN="Sarah Annibali":MAILTO:children@lclibs.org
GEO:40.3410676;-76.4227409
X-APPLE-STRUCTURED-LOCATION;VALUE=URI;X-ADDRESS=Lebanon Community Library 125 N. 7th St. Lebanon PA 17046 United States;X-APPLE-RADIUS=500;X-TITLE=125 N. 7th St.:geo:-76.4227409,40.3410676
END:VEVENT
BEGIN:VEVENT
DTSTART;TZID=America/New_York:20250930T180000
DTEND;TZID=America/New_York:20250930T190000
DTSTAMP:20260420T152539
CREATED:20250731T150704Z
LAST-MODIFIED:20250923T195213Z
UID:10004247-1759255200-1759258800@lebanon.lclibs.org
SUMMARY:Paws to Read
DESCRIPTION:Kids in grades 1-5 are invited to sign up for a 20 minute session to read to Charlie\, a certified therapy dog. \nReading out loud is an excellent way for kids to improve their reading skills and dogs make great listeners! \nFor more information and to register stop into the library\, call 717-273-7624 or email children@lclibs.org
URL:https://lebanon.lclibs.org/event/paws-to-read/2025-09-30/
LOCATION:Lebanon Community Library\, 125 N. 7th St.\, Lebanon\, PA\, 17046\, United States
CATEGORIES:Children,Lebanon Community Library
ORGANIZER;CN="Sarah Annibali":MAILTO:children@lclibs.org
GEO:40.3410676;-76.4227409
X-APPLE-STRUCTURED-LOCATION;VALUE=URI;X-ADDRESS=Lebanon Community Library 125 N. 7th St. Lebanon PA 17046 United States;X-APPLE-RADIUS=500;X-TITLE=125 N. 7th St.:geo:-76.4227409,40.3410676
END:VEVENT
BEGIN:VEVENT
DTSTART;TZID=America/New_York:20250923T180000
DTEND;TZID=America/New_York:20250923T190000
DTSTAMP:20260420T152539
CREATED:20250731T150704Z
LAST-MODIFIED:20250923T195213Z
UID:10004246-1758650400-1758654000@lebanon.lclibs.org
SUMMARY:Paws to Read
DESCRIPTION:Kids in grades 1-5 are invited to sign up for a 20 minute session to read to Charlie\, a certified therapy dog. \nReading out loud is an excellent way for kids to improve their reading skills and dogs make great listeners! \nFor more information and to register stop into the library\, call 717-273-7624 or email children@lclibs.org
URL:https://lebanon.lclibs.org/event/paws-to-read/2025-09-23/
LOCATION:Lebanon Community Library\, 125 N. 7th St.\, Lebanon\, PA\, 17046\, United States
CATEGORIES:Children,Lebanon Community Library
ORGANIZER;CN="Sarah Annibali":MAILTO:children@lclibs.org
GEO:40.3410676;-76.4227409
X-APPLE-STRUCTURED-LOCATION;VALUE=URI;X-ADDRESS=Lebanon Community Library 125 N. 7th St. Lebanon PA 17046 United States;X-APPLE-RADIUS=500;X-TITLE=125 N. 7th St.:geo:-76.4227409,40.3410676
END:VEVENT
BEGIN:VEVENT
DTSTART;TZID=America/New_York:20250916T180000
DTEND;TZID=America/New_York:20250916T190000
DTSTAMP:20260420T152539
CREATED:20250731T150704Z
LAST-MODIFIED:20250923T195213Z
UID:10004245-1758045600-1758049200@lebanon.lclibs.org
SUMMARY:Paws to Read
DESCRIPTION:Kids in grades 1-5 are invited to sign up for a 20 minute session to read to Charlie\, a certified therapy dog. \nReading out loud is an excellent way for kids to improve their reading skills and dogs make great listeners! \nFor more information and to register stop into the library\, call 717-273-7624 or email children@lclibs.org
URL:https://lebanon.lclibs.org/event/paws-to-read/2025-09-16/
LOCATION:Lebanon Community Library\, 125 N. 7th St.\, Lebanon\, PA\, 17046\, United States
CATEGORIES:Children,Lebanon Community Library
ORGANIZER;CN="Sarah Annibali":MAILTO:children@lclibs.org
GEO:40.3410676;-76.4227409
X-APPLE-STRUCTURED-LOCATION;VALUE=URI;X-ADDRESS=Lebanon Community Library 125 N. 7th St. Lebanon PA 17046 United States;X-APPLE-RADIUS=500;X-TITLE=125 N. 7th St.:geo:-76.4227409,40.3410676
END:VEVENT
BEGIN:VEVENT
DTSTART;TZID=America/New_York:20250909T180000
DTEND;TZID=America/New_York:20250909T190000
DTSTAMP:20260420T152539
CREATED:20250731T150704Z
LAST-MODIFIED:20250923T195213Z
UID:10004244-1757440800-1757444400@lebanon.lclibs.org
SUMMARY:Paws to Read
DESCRIPTION:Kids in grades 1-5 are invited to sign up for a 20 minute session to read to Charlie\, a certified therapy dog. \nReading out loud is an excellent way for kids to improve their reading skills and dogs make great listeners! \nFor more information and to register stop into the library\, call 717-273-7624 or email children@lclibs.org
URL:https://lebanon.lclibs.org/event/paws-to-read/2025-09-09/
LOCATION:Lebanon Community Library\, 125 N. 7th St.\, Lebanon\, PA\, 17046\, United States
CATEGORIES:Children,Lebanon Community Library
ORGANIZER;CN="Sarah Annibali":MAILTO:children@lclibs.org
GEO:40.3410676;-76.4227409
X-APPLE-STRUCTURED-LOCATION;VALUE=URI;X-ADDRESS=Lebanon Community Library 125 N. 7th St. Lebanon PA 17046 United States;X-APPLE-RADIUS=500;X-TITLE=125 N. 7th St.:geo:-76.4227409,40.3410676
END:VEVENT
BEGIN:VEVENT
DTSTART;TZID=America/New_York:20250902T180000
DTEND;TZID=America/New_York:20250902T190000
DTSTAMP:20260420T152539
CREATED:20250731T150704Z
LAST-MODIFIED:20250923T195213Z
UID:10004243-1756836000-1756839600@lebanon.lclibs.org
SUMMARY:Paws to Read
DESCRIPTION:Kids in grades 1-5 are invited to sign up for a 20 minute session to read to Charlie\, a certified therapy dog. \nReading out loud is an excellent way for kids to improve their reading skills and dogs make great listeners! \nFor more information and to register stop into the library\, call 717-273-7624 or email children@lclibs.org
URL:https://lebanon.lclibs.org/event/paws-to-read/2025-09-02/
LOCATION:Lebanon Community Library\, 125 N. 7th St.\, Lebanon\, PA\, 17046\, United States
CATEGORIES:Children,Lebanon Community Library
ORGANIZER;CN="Sarah Annibali":MAILTO:children@lclibs.org
GEO:40.3410676;-76.4227409
X-APPLE-STRUCTURED-LOCATION;VALUE=URI;X-ADDRESS=Lebanon Community Library 125 N. 7th St. Lebanon PA 17046 United States;X-APPLE-RADIUS=500;X-TITLE=125 N. 7th St.:geo:-76.4227409,40.3410676
END:VEVENT
BEGIN:VEVENT
DTSTART;TZID=America/New_York:20250826T180000
DTEND;TZID=America/New_York:20250826T190000
DTSTAMP:20260420T152539
CREATED:20250731T150704Z
LAST-MODIFIED:20250923T195213Z
UID:10004242-1756231200-1756234800@lebanon.lclibs.org
SUMMARY:Paws to Read
DESCRIPTION:Kids in grades 1-5 are invited to sign up for a 20 minute session to read to Charlie\, a certified therapy dog. \nReading out loud is an excellent way for kids to improve their reading skills and dogs make great listeners! \nFor more information and to register stop into the library\, call 717-273-7624 or email children@lclibs.org
URL:https://lebanon.lclibs.org/event/paws-to-read/2025-08-26/
LOCATION:Lebanon Community Library\, 125 N. 7th St.\, Lebanon\, PA\, 17046\, United States
CATEGORIES:Children,Lebanon Community Library
ORGANIZER;CN="Sarah Annibali":MAILTO:children@lclibs.org
GEO:40.3410676;-76.4227409
X-APPLE-STRUCTURED-LOCATION;VALUE=URI;X-ADDRESS=Lebanon Community Library 125 N. 7th St. Lebanon PA 17046 United States;X-APPLE-RADIUS=500;X-TITLE=125 N. 7th St.:geo:-76.4227409,40.3410676
END:VEVENT
BEGIN:VEVENT
DTSTART;TZID=America/New_York:20250819T180000
DTEND;TZID=America/New_York:20250819T190000
DTSTAMP:20260420T152539
CREATED:20250731T150704Z
LAST-MODIFIED:20250923T195213Z
UID:10004241-1755626400-1755630000@lebanon.lclibs.org
SUMMARY:Paws to Read
DESCRIPTION:Kids in grades 1-5 are invited to sign up for a 20 minute session to read to Charlie\, a certified therapy dog. \nReading out loud is an excellent way for kids to improve their reading skills and dogs make great listeners! \nFor more information and to register stop into the library\, call 717-273-7624 or email children@lclibs.org
URL:https://lebanon.lclibs.org/event/paws-to-read/2025-08-19/
LOCATION:Lebanon Community Library\, 125 N. 7th St.\, Lebanon\, PA\, 17046\, United States
CATEGORIES:Children,Lebanon Community Library
ORGANIZER;CN="Sarah Annibali":MAILTO:children@lclibs.org
GEO:40.3410676;-76.4227409
X-APPLE-STRUCTURED-LOCATION;VALUE=URI;X-ADDRESS=Lebanon Community Library 125 N. 7th St. Lebanon PA 17046 United States;X-APPLE-RADIUS=500;X-TITLE=125 N. 7th St.:geo:-76.4227409,40.3410676
END:VEVENT
BEGIN:VEVENT
DTSTART;TZID=America/New_York:20250812T180000
DTEND;TZID=America/New_York:20250812T190000
DTSTAMP:20260420T152539
CREATED:20250731T150704Z
LAST-MODIFIED:20250923T195213Z
UID:10004240-1755021600-1755025200@lebanon.lclibs.org
SUMMARY:Paws to Read
DESCRIPTION:Kids in grades 1-5 are invited to sign up for a 20 minute session to read to Charlie\, a certified therapy dog. \nReading out loud is an excellent way for kids to improve their reading skills and dogs make great listeners! \nFor more information and to register stop into the library\, call 717-273-7624 or email children@lclibs.org
URL:https://lebanon.lclibs.org/event/paws-to-read/2025-08-12/
LOCATION:Lebanon Community Library\, 125 N. 7th St.\, Lebanon\, PA\, 17046\, United States
CATEGORIES:Children,Lebanon Community Library
ORGANIZER;CN="Sarah Annibali":MAILTO:children@lclibs.org
GEO:40.3410676;-76.4227409
X-APPLE-STRUCTURED-LOCATION;VALUE=URI;X-ADDRESS=Lebanon Community Library 125 N. 7th St. Lebanon PA 17046 United States;X-APPLE-RADIUS=500;X-TITLE=125 N. 7th St.:geo:-76.4227409,40.3410676
END:VEVENT
BEGIN:VEVENT
DTSTART;TZID=America/New_York:20250805T180000
DTEND;TZID=America/New_York:20250805T190000
DTSTAMP:20260420T152539
CREATED:20250731T150704Z
LAST-MODIFIED:20250923T195213Z
UID:10004239-1754416800-1754420400@lebanon.lclibs.org
SUMMARY:Paws to Read
DESCRIPTION:Kids in grades 1-5 are invited to sign up for a 20 minute session to read to Charlie\, a certified therapy dog. \nReading out loud is an excellent way for kids to improve their reading skills and dogs make great listeners! \nFor more information and to register stop into the library\, call 717-273-7624 or email children@lclibs.org
URL:https://lebanon.lclibs.org/event/paws-to-read/2025-08-05/
LOCATION:Lebanon Community Library\, 125 N. 7th St.\, Lebanon\, PA\, 17046\, United States
CATEGORIES:Children,Lebanon Community Library
ORGANIZER;CN="Sarah Annibali":MAILTO:children@lclibs.org
GEO:40.3410676;-76.4227409
X-APPLE-STRUCTURED-LOCATION;VALUE=URI;X-ADDRESS=Lebanon Community Library 125 N. 7th St. Lebanon PA 17046 United States;X-APPLE-RADIUS=500;X-TITLE=125 N. 7th St.:geo:-76.4227409,40.3410676
END:VEVENT
END:VCALENDAR