BEGIN:VCALENDAR
VERSION:2.0
PRODID:-//Lebanon Community Library - ECPv6.15.17.1//NONSGML v1.0//EN
CALSCALE:GREGORIAN
METHOD:PUBLISH
X-ORIGINAL-URL:https://lebanon.lclibs.org
X-WR-CALDESC:Events for Lebanon Community Library
REFRESH-INTERVAL;VALUE=DURATION:PT1H
X-Robots-Tag:noindex
X-PUBLISHED-TTL:PT1H
BEGIN:VTIMEZONE
TZID:America/New_York
BEGIN:DAYLIGHT
TZOFFSETFROM:-0500
TZOFFSETTO:-0400
TZNAME:EDT
DTSTART:20230312T070000
END:DAYLIGHT
BEGIN:STANDARD
TZOFFSETFROM:-0400
TZOFFSETTO:-0500
TZNAME:EST
DTSTART:20231105T060000
END:STANDARD
BEGIN:DAYLIGHT
TZOFFSETFROM:-0500
TZOFFSETTO:-0400
TZNAME:EDT
DTSTART:20240310T070000
END:DAYLIGHT
BEGIN:STANDARD
TZOFFSETFROM:-0400
TZOFFSETTO:-0500
TZNAME:EST
DTSTART:20241103T060000
END:STANDARD
BEGIN:DAYLIGHT
TZOFFSETFROM:-0500
TZOFFSETTO:-0400
TZNAME:EDT
DTSTART:20250309T070000
END:DAYLIGHT
BEGIN:STANDARD
TZOFFSETFROM:-0400
TZOFFSETTO:-0500
TZNAME:EST
DTSTART:20251102T060000
END:STANDARD
END:VTIMEZONE
BEGIN:VEVENT
DTSTART;TZID=America/New_York:20240730T180000
DTEND;TZID=America/New_York:20240730T200000
DTSTAMP:20260422T152335
CREATED:20180327T171605Z
LAST-MODIFIED:20250619T002843Z
UID:10003479-1722362400-1722369600@lebanon.lclibs.org
SUMMARY:Tuesday Evening Book Group
DESCRIPTION:Meets the last Tuesday of each month at 6pm in the library’s Community Room. The complete title list may be found here.
URL:https://lebanon.lclibs.org/event/tuesday-evening-book-group-2023-06-27/
LOCATION:Lebanon Community Library\, 125 N. 7th St.\, Lebanon\, PA\, 17046\, United States
CATEGORIES:Adult program,Adults,Book Club,Lebanon Community Library
GEO:40.3410676;-76.4227409
X-APPLE-STRUCTURED-LOCATION;VALUE=URI;X-ADDRESS=Lebanon Community Library 125 N. 7th St. Lebanon PA 17046 United States;X-APPLE-RADIUS=500;X-TITLE=125 N. 7th St.:geo:-76.4227409,40.3410676
END:VEVENT
BEGIN:VEVENT
DTSTART;TZID=America/New_York:20240726T100000
DTEND;TZID=America/New_York:20240726T120000
DTSTAMP:20260422T152335
CREATED:20231127T203349Z
LAST-MODIFIED:20241029T160220Z
UID:10000820-1721988000-1721995200@lebanon.lclibs.org
SUMMARY:Writers' Group
DESCRIPTION:The Writers’ Group meets the last Friday of each month from 10am until noon. Bring your ideas and writing to this informal group for inspiration\, feedback\, and more!
URL:https://lebanon.lclibs.org/event/writers-group-2/2024-07-26/
LOCATION:Lebanon Community Library\, 125 N. 7th St.\, Lebanon\, PA\, 17046\, United States
CATEGORIES:Adults,Teens
GEO:40.3410676;-76.4227409
X-APPLE-STRUCTURED-LOCATION;VALUE=URI;X-ADDRESS=Lebanon Community Library 125 N. 7th St. Lebanon PA 17046 United States;X-APPLE-RADIUS=500;X-TITLE=125 N. 7th St.:geo:-76.4227409,40.3410676
END:VEVENT
BEGIN:VEVENT
DTSTART;TZID=America/New_York:20240704T140000
DTEND;TZID=America/New_York:20240704T153000
DTSTAMP:20260422T152335
CREATED:20180327T171221Z
LAST-MODIFIED:20251126T141442Z
UID:10004997-1720101600-1720107000@lebanon.lclibs.org
SUMMARY:Thursday Afternoon Book Group
DESCRIPTION:Meets the 1st Thursday of each month at 2pm in the library’s Community Room.
URL:https://lebanon.lclibs.org/event/thursday-afternoon-book-group/2024-07-04/
LOCATION:Lebanon Community Library\, 125 N. 7th St.\, Lebanon\, PA\, 17046\, United States
CATEGORIES:Adult program,Adults,Book Club,Lebanon Community Library
GEO:40.3410676;-76.4227409
X-APPLE-STRUCTURED-LOCATION;VALUE=URI;X-ADDRESS=Lebanon Community Library 125 N. 7th St. Lebanon PA 17046 United States;X-APPLE-RADIUS=500;X-TITLE=125 N. 7th St.:geo:-76.4227409,40.3410676
END:VEVENT
BEGIN:VEVENT
DTSTART;TZID=America/New_York:20240628T100000
DTEND;TZID=America/New_York:20240628T120000
DTSTAMP:20260422T152335
CREATED:20231127T203349Z
LAST-MODIFIED:20241029T160220Z
UID:10000819-1719568800-1719576000@lebanon.lclibs.org
SUMMARY:Writers' Group
DESCRIPTION:The Writers’ Group meets the last Friday of each month from 10am until noon. Bring your ideas and writing to this informal group for inspiration\, feedback\, and more!
URL:https://lebanon.lclibs.org/event/writers-group-2/2024-06-28/
LOCATION:Lebanon Community Library\, 125 N. 7th St.\, Lebanon\, PA\, 17046\, United States
CATEGORIES:Adults,Teens
GEO:40.3410676;-76.4227409
X-APPLE-STRUCTURED-LOCATION;VALUE=URI;X-ADDRESS=Lebanon Community Library 125 N. 7th St. Lebanon PA 17046 United States;X-APPLE-RADIUS=500;X-TITLE=125 N. 7th St.:geo:-76.4227409,40.3410676
END:VEVENT
BEGIN:VEVENT
DTSTART;TZID=America/New_York:20240625T180000
DTEND;TZID=America/New_York:20240625T200000
DTSTAMP:20260422T152335
CREATED:20180327T171605Z
LAST-MODIFIED:20250619T002843Z
UID:10004008-1719338400-1719345600@lebanon.lclibs.org
SUMMARY:Tuesday Evening Book Group
DESCRIPTION:Meets the last Tuesday of each month at 6pm in the library’s Community Room. The complete title list may be found here.
URL:https://lebanon.lclibs.org/event/tuesday-evening-book-group-2023-04-25/
LOCATION:Lebanon Community Library\, 125 N. 7th St.\, Lebanon\, PA\, 17046\, United States
CATEGORIES:Adult program,Adults,Book Club,Lebanon Community Library
GEO:40.3410676;-76.4227409
X-APPLE-STRUCTURED-LOCATION;VALUE=URI;X-ADDRESS=Lebanon Community Library 125 N. 7th St. Lebanon PA 17046 United States;X-APPLE-RADIUS=500;X-TITLE=125 N. 7th St.:geo:-76.4227409,40.3410676
END:VEVENT
BEGIN:VEVENT
DTSTART;TZID=America/New_York:20240625T180000
DTEND;TZID=America/New_York:20240625T200000
DTSTAMP:20260422T152335
CREATED:20180327T171605Z
LAST-MODIFIED:20250619T002843Z
UID:10003394-1719338400-1719345600@lebanon.lclibs.org
SUMMARY:Tuesday Evening Book Group
DESCRIPTION:Meets the last Tuesday of each month at 6pm in the library’s Community Room. The complete title list may be found here.
URL:https://lebanon.lclibs.org/event/tuesday-evening-book-group-2023-05-30/
LOCATION:Lebanon Community Library\, 125 N. 7th St.\, Lebanon\, PA\, 17046\, United States
CATEGORIES:Adult program,Adults,Book Club,Lebanon Community Library
GEO:40.3410676;-76.4227409
X-APPLE-STRUCTURED-LOCATION;VALUE=URI;X-ADDRESS=Lebanon Community Library 125 N. 7th St. Lebanon PA 17046 United States;X-APPLE-RADIUS=500;X-TITLE=125 N. 7th St.:geo:-76.4227409,40.3410676
END:VEVENT
BEGIN:VEVENT
DTSTART;TZID=America/New_York:20240625T180000
DTEND;TZID=America/New_York:20240625T200000
DTSTAMP:20260422T152335
CREATED:20180327T171605Z
LAST-MODIFIED:20250619T002843Z
UID:10003478-1719338400-1719345600@lebanon.lclibs.org
SUMMARY:Tuesday Evening Book Group
DESCRIPTION:Meets the last Tuesday of each month at 6pm in the library’s Community Room. The complete title list may be found here.
URL:https://lebanon.lclibs.org/event/tuesday-evening-book-group-2023-06-27/
LOCATION:Lebanon Community Library\, 125 N. 7th St.\, Lebanon\, PA\, 17046\, United States
CATEGORIES:Adult program,Adults,Book Club,Lebanon Community Library
GEO:40.3410676;-76.4227409
X-APPLE-STRUCTURED-LOCATION;VALUE=URI;X-ADDRESS=Lebanon Community Library 125 N. 7th St. Lebanon PA 17046 United States;X-APPLE-RADIUS=500;X-TITLE=125 N. 7th St.:geo:-76.4227409,40.3410676
END:VEVENT
BEGIN:VEVENT
DTSTART;TZID=America/New_York:20240625T180000
DTEND;TZID=America/New_York:20240625T200000
DTSTAMP:20260422T152335
CREATED:20180327T171605Z
LAST-MODIFIED:20250619T002843Z
UID:10003561-1719338400-1719345600@lebanon.lclibs.org
SUMMARY:Tuesday Evening Book Group
DESCRIPTION:Meets the last Tuesday of each month at 6pm in the library’s Community Room. The complete title list may be found here.
URL:https://lebanon.lclibs.org/event/tuesday-evening-book-group-2023-07-25/
LOCATION:Lebanon Community Library\, 125 N. 7th St.\, Lebanon\, PA\, 17046\, United States
CATEGORIES:Adult program,Adults,Book Club,Lebanon Community Library
GEO:40.3410676;-76.4227409
X-APPLE-STRUCTURED-LOCATION;VALUE=URI;X-ADDRESS=Lebanon Community Library 125 N. 7th St. Lebanon PA 17046 United States;X-APPLE-RADIUS=500;X-TITLE=125 N. 7th St.:geo:-76.4227409,40.3410676
END:VEVENT
BEGIN:VEVENT
DTSTART;TZID=America/New_York:20240606T140000
DTEND;TZID=America/New_York:20240606T153000
DTSTAMP:20260422T152335
CREATED:20180327T171221Z
LAST-MODIFIED:20251126T141442Z
UID:10001299-1717682400-1717687800@lebanon.lclibs.org
SUMMARY:Thursday Afternoon Book Group
DESCRIPTION:Meets the 1st Thursday of each month at 2pm in the library’s Community Room.
URL:https://lebanon.lclibs.org/event/thursday-afternoon-book-group/2024-06-06/
LOCATION:Lebanon Community Library\, 125 N. 7th St.\, Lebanon\, PA\, 17046\, United States
CATEGORIES:Adult program,Adults,Book Club,Lebanon Community Library
GEO:40.3410676;-76.4227409
X-APPLE-STRUCTURED-LOCATION;VALUE=URI;X-ADDRESS=Lebanon Community Library 125 N. 7th St. Lebanon PA 17046 United States;X-APPLE-RADIUS=500;X-TITLE=125 N. 7th St.:geo:-76.4227409,40.3410676
END:VEVENT
BEGIN:VEVENT
DTSTART;TZID=America/New_York:20240531T100000
DTEND;TZID=America/New_York:20240531T120000
DTSTAMP:20260422T152335
CREATED:20231127T203349Z
LAST-MODIFIED:20241029T160220Z
UID:10001359-1717149600-1717156800@lebanon.lclibs.org
SUMMARY:Writers' Group
DESCRIPTION:The Writers’ Group meets the last Friday of each month from 10am until noon. Bring your ideas and writing to this informal group for inspiration\, feedback\, and more!
URL:https://lebanon.lclibs.org/event/writers-group-2/2024-05-31/
LOCATION:Lebanon Community Library\, 125 N. 7th St.\, Lebanon\, PA\, 17046\, United States
CATEGORIES:Adults,Teens
GEO:40.3410676;-76.4227409
X-APPLE-STRUCTURED-LOCATION;VALUE=URI;X-ADDRESS=Lebanon Community Library 125 N. 7th St. Lebanon PA 17046 United States;X-APPLE-RADIUS=500;X-TITLE=125 N. 7th St.:geo:-76.4227409,40.3410676
END:VEVENT
BEGIN:VEVENT
DTSTART;TZID=America/New_York:20240528T180000
DTEND;TZID=America/New_York:20240528T200000
DTSTAMP:20260422T152335
CREATED:20180327T171605Z
LAST-MODIFIED:20250619T002843Z
UID:10004007-1716919200-1716926400@lebanon.lclibs.org
SUMMARY:Tuesday Evening Book Group
DESCRIPTION:Meets the last Tuesday of each month at 6pm in the library’s Community Room. The complete title list may be found here.
URL:https://lebanon.lclibs.org/event/tuesday-evening-book-group-2023-04-25/
LOCATION:Lebanon Community Library\, 125 N. 7th St.\, Lebanon\, PA\, 17046\, United States
CATEGORIES:Adult program,Adults,Book Club,Lebanon Community Library
GEO:40.3410676;-76.4227409
X-APPLE-STRUCTURED-LOCATION;VALUE=URI;X-ADDRESS=Lebanon Community Library 125 N. 7th St. Lebanon PA 17046 United States;X-APPLE-RADIUS=500;X-TITLE=125 N. 7th St.:geo:-76.4227409,40.3410676
END:VEVENT
BEGIN:VEVENT
DTSTART;TZID=America/New_York:20240528T180000
DTEND;TZID=America/New_York:20240528T200000
DTSTAMP:20260422T152335
CREATED:20180327T171605Z
LAST-MODIFIED:20250619T002843Z
UID:10003393-1716919200-1716926400@lebanon.lclibs.org
SUMMARY:Tuesday Evening Book Group
DESCRIPTION:Meets the last Tuesday of each month at 6pm in the library’s Community Room. The complete title list may be found here.
URL:https://lebanon.lclibs.org/event/tuesday-evening-book-group-2023-05-30/
LOCATION:Lebanon Community Library\, 125 N. 7th St.\, Lebanon\, PA\, 17046\, United States
CATEGORIES:Adult program,Adults,Book Club,Lebanon Community Library
GEO:40.3410676;-76.4227409
X-APPLE-STRUCTURED-LOCATION;VALUE=URI;X-ADDRESS=Lebanon Community Library 125 N. 7th St. Lebanon PA 17046 United States;X-APPLE-RADIUS=500;X-TITLE=125 N. 7th St.:geo:-76.4227409,40.3410676
END:VEVENT
BEGIN:VEVENT
DTSTART;TZID=America/New_York:20240528T180000
DTEND;TZID=America/New_York:20240528T200000
DTSTAMP:20260422T152335
CREATED:20180327T171605Z
LAST-MODIFIED:20250619T002843Z
UID:10003477-1716919200-1716926400@lebanon.lclibs.org
SUMMARY:Tuesday Evening Book Group
DESCRIPTION:Meets the last Tuesday of each month at 6pm in the library’s Community Room. The complete title list may be found here.
URL:https://lebanon.lclibs.org/event/tuesday-evening-book-group-2023-06-27/
LOCATION:Lebanon Community Library\, 125 N. 7th St.\, Lebanon\, PA\, 17046\, United States
CATEGORIES:Adult program,Adults,Book Club,Lebanon Community Library
GEO:40.3410676;-76.4227409
X-APPLE-STRUCTURED-LOCATION;VALUE=URI;X-ADDRESS=Lebanon Community Library 125 N. 7th St. Lebanon PA 17046 United States;X-APPLE-RADIUS=500;X-TITLE=125 N. 7th St.:geo:-76.4227409,40.3410676
END:VEVENT
BEGIN:VEVENT
DTSTART;TZID=America/New_York:20240528T180000
DTEND;TZID=America/New_York:20240528T200000
DTSTAMP:20260422T152335
CREATED:20180327T171605Z
LAST-MODIFIED:20250619T002843Z
UID:10003560-1716919200-1716926400@lebanon.lclibs.org
SUMMARY:Tuesday Evening Book Group
DESCRIPTION:Meets the last Tuesday of each month at 6pm in the library’s Community Room. The complete title list may be found here.
URL:https://lebanon.lclibs.org/event/tuesday-evening-book-group-2023-07-25/
LOCATION:Lebanon Community Library\, 125 N. 7th St.\, Lebanon\, PA\, 17046\, United States
CATEGORIES:Adult program,Adults,Book Club,Lebanon Community Library
GEO:40.3410676;-76.4227409
X-APPLE-STRUCTURED-LOCATION;VALUE=URI;X-ADDRESS=Lebanon Community Library 125 N. 7th St. Lebanon PA 17046 United States;X-APPLE-RADIUS=500;X-TITLE=125 N. 7th St.:geo:-76.4227409,40.3410676
END:VEVENT
BEGIN:VEVENT
DTSTART;TZID=America/New_York:20240502T140000
DTEND;TZID=America/New_York:20240502T153000
DTSTAMP:20260422T152335
CREATED:20180327T171221Z
LAST-MODIFIED:20251126T141442Z
UID:10001298-1714658400-1714663800@lebanon.lclibs.org
SUMMARY:Thursday Afternoon Book Group
DESCRIPTION:Meets the 1st Thursday of each month at 2pm in the library’s Community Room.
URL:https://lebanon.lclibs.org/event/thursday-afternoon-book-group/2024-05-02/
LOCATION:Lebanon Community Library\, 125 N. 7th St.\, Lebanon\, PA\, 17046\, United States
CATEGORIES:Adult program,Adults,Book Club,Lebanon Community Library
GEO:40.3410676;-76.4227409
X-APPLE-STRUCTURED-LOCATION;VALUE=URI;X-ADDRESS=Lebanon Community Library 125 N. 7th St. Lebanon PA 17046 United States;X-APPLE-RADIUS=500;X-TITLE=125 N. 7th St.:geo:-76.4227409,40.3410676
END:VEVENT
BEGIN:VEVENT
DTSTART;TZID=America/New_York:20240430T180000
DTEND;TZID=America/New_York:20240430T200000
DTSTAMP:20260422T152335
CREATED:20180327T171605Z
LAST-MODIFIED:20250619T002843Z
UID:10003392-1714500000-1714507200@lebanon.lclibs.org
SUMMARY:Tuesday Evening Book Group
DESCRIPTION:Meets the last Tuesday of each month at 6pm in the library’s Community Room. The complete title list may be found here.
URL:https://lebanon.lclibs.org/event/tuesday-evening-book-group-2023-05-30/
LOCATION:Lebanon Community Library\, 125 N. 7th St.\, Lebanon\, PA\, 17046\, United States
CATEGORIES:Adult program,Adults,Book Club,Lebanon Community Library
GEO:40.3410676;-76.4227409
X-APPLE-STRUCTURED-LOCATION;VALUE=URI;X-ADDRESS=Lebanon Community Library 125 N. 7th St. Lebanon PA 17046 United States;X-APPLE-RADIUS=500;X-TITLE=125 N. 7th St.:geo:-76.4227409,40.3410676
END:VEVENT
BEGIN:VEVENT
DTSTART;TZID=America/New_York:20240430T180000
DTEND;TZID=America/New_York:20240430T200000
DTSTAMP:20260422T152335
CREATED:20180327T171605Z
LAST-MODIFIED:20250619T002843Z
UID:10003476-1714500000-1714507200@lebanon.lclibs.org
SUMMARY:Tuesday Evening Book Group
DESCRIPTION:Meets the last Tuesday of each month at 6pm in the library’s Community Room. The complete title list may be found here.
URL:https://lebanon.lclibs.org/event/tuesday-evening-book-group-2023-06-27/
LOCATION:Lebanon Community Library\, 125 N. 7th St.\, Lebanon\, PA\, 17046\, United States
CATEGORIES:Adult program,Adults,Book Club,Lebanon Community Library
GEO:40.3410676;-76.4227409
X-APPLE-STRUCTURED-LOCATION;VALUE=URI;X-ADDRESS=Lebanon Community Library 125 N. 7th St. Lebanon PA 17046 United States;X-APPLE-RADIUS=500;X-TITLE=125 N. 7th St.:geo:-76.4227409,40.3410676
END:VEVENT
BEGIN:VEVENT
DTSTART;TZID=America/New_York:20240430T180000
DTEND;TZID=America/New_York:20240430T200000
DTSTAMP:20260422T152335
CREATED:20180327T171605Z
LAST-MODIFIED:20250619T002843Z
UID:10003559-1714500000-1714507200@lebanon.lclibs.org
SUMMARY:Tuesday Evening Book Group
DESCRIPTION:Meets the last Tuesday of each month at 6pm in the library’s Community Room. The complete title list may be found here.
URL:https://lebanon.lclibs.org/event/tuesday-evening-book-group-2023-07-25/
LOCATION:Lebanon Community Library\, 125 N. 7th St.\, Lebanon\, PA\, 17046\, United States
CATEGORIES:Adult program,Adults,Book Club,Lebanon Community Library
GEO:40.3410676;-76.4227409
X-APPLE-STRUCTURED-LOCATION;VALUE=URI;X-ADDRESS=Lebanon Community Library 125 N. 7th St. Lebanon PA 17046 United States;X-APPLE-RADIUS=500;X-TITLE=125 N. 7th St.:geo:-76.4227409,40.3410676
END:VEVENT
BEGIN:VEVENT
DTSTART;TZID=America/New_York:20240430T180000
DTEND;TZID=America/New_York:20240430T200000
DTSTAMP:20260422T152335
CREATED:20180327T171605Z
LAST-MODIFIED:20250619T002843Z
UID:10004006-1714500000-1714507200@lebanon.lclibs.org
SUMMARY:Tuesday Evening Book Group
DESCRIPTION:Meets the last Tuesday of each month at 6pm in the library’s Community Room. The complete title list may be found here.
URL:https://lebanon.lclibs.org/event/tuesday-evening-book-group-2023-04-25/
LOCATION:Lebanon Community Library\, 125 N. 7th St.\, Lebanon\, PA\, 17046\, United States
CATEGORIES:Adult program,Adults,Book Club,Lebanon Community Library
GEO:40.3410676;-76.4227409
X-APPLE-STRUCTURED-LOCATION;VALUE=URI;X-ADDRESS=Lebanon Community Library 125 N. 7th St. Lebanon PA 17046 United States;X-APPLE-RADIUS=500;X-TITLE=125 N. 7th St.:geo:-76.4227409,40.3410676
END:VEVENT
BEGIN:VEVENT
DTSTART;TZID=America/New_York:20240426T100000
DTEND;TZID=America/New_York:20240426T120000
DTSTAMP:20260422T152335
CREATED:20231127T203349Z
LAST-MODIFIED:20241029T160220Z
UID:10000817-1714125600-1714132800@lebanon.lclibs.org
SUMMARY:Writers' Group
DESCRIPTION:The Writers’ Group meets the last Friday of each month from 10am until noon. Bring your ideas and writing to this informal group for inspiration\, feedback\, and more!
URL:https://lebanon.lclibs.org/event/writers-group-2/2024-04-26/
LOCATION:Lebanon Community Library\, 125 N. 7th St.\, Lebanon\, PA\, 17046\, United States
CATEGORIES:Adults,Teens
GEO:40.3410676;-76.4227409
X-APPLE-STRUCTURED-LOCATION;VALUE=URI;X-ADDRESS=Lebanon Community Library 125 N. 7th St. Lebanon PA 17046 United States;X-APPLE-RADIUS=500;X-TITLE=125 N. 7th St.:geo:-76.4227409,40.3410676
END:VEVENT
BEGIN:VEVENT
DTSTART;TZID=America/New_York:20240404T140000
DTEND;TZID=America/New_York:20240404T153000
DTSTAMP:20260422T152335
CREATED:20180327T171221Z
LAST-MODIFIED:20251126T141442Z
UID:10001297-1712239200-1712244600@lebanon.lclibs.org
SUMMARY:Thursday Afternoon Book Group
DESCRIPTION:Meets the 1st Thursday of each month at 2pm in the library’s Community Room.
URL:https://lebanon.lclibs.org/event/thursday-afternoon-book-group/2024-04-04/
LOCATION:Lebanon Community Library\, 125 N. 7th St.\, Lebanon\, PA\, 17046\, United States
CATEGORIES:Adult program,Adults,Book Club,Lebanon Community Library
GEO:40.3410676;-76.4227409
X-APPLE-STRUCTURED-LOCATION;VALUE=URI;X-ADDRESS=Lebanon Community Library 125 N. 7th St. Lebanon PA 17046 United States;X-APPLE-RADIUS=500;X-TITLE=125 N. 7th St.:geo:-76.4227409,40.3410676
END:VEVENT
BEGIN:VEVENT
DTSTART;TZID=America/New_York:20240329T100000
DTEND;TZID=America/New_York:20240329T120000
DTSTAMP:20260422T152335
CREATED:20231127T203349Z
LAST-MODIFIED:20241029T160220Z
UID:10001358-1711706400-1711713600@lebanon.lclibs.org
SUMMARY:Writers' Group
DESCRIPTION:The Writers’ Group meets the last Friday of each month from 10am until noon. Bring your ideas and writing to this informal group for inspiration\, feedback\, and more!
URL:https://lebanon.lclibs.org/event/writers-group-2/2024-03-29/
LOCATION:Lebanon Community Library\, 125 N. 7th St.\, Lebanon\, PA\, 17046\, United States
CATEGORIES:Adults,Teens
GEO:40.3410676;-76.4227409
X-APPLE-STRUCTURED-LOCATION;VALUE=URI;X-ADDRESS=Lebanon Community Library 125 N. 7th St. Lebanon PA 17046 United States;X-APPLE-RADIUS=500;X-TITLE=125 N. 7th St.:geo:-76.4227409,40.3410676
END:VEVENT
BEGIN:VEVENT
DTSTART;TZID=America/New_York:20240326T180000
DTEND;TZID=America/New_York:20240326T200000
DTSTAMP:20260422T152335
CREATED:20180327T171605Z
LAST-MODIFIED:20250619T002843Z
UID:10003391-1711476000-1711483200@lebanon.lclibs.org
SUMMARY:Tuesday Evening Book Group
DESCRIPTION:Meets the last Tuesday of each month at 6pm in the library’s Community Room. The complete title list may be found here.
URL:https://lebanon.lclibs.org/event/tuesday-evening-book-group-2023-05-30/
LOCATION:Lebanon Community Library\, 125 N. 7th St.\, Lebanon\, PA\, 17046\, United States
CATEGORIES:Adult program,Adults,Book Club,Lebanon Community Library
GEO:40.3410676;-76.4227409
X-APPLE-STRUCTURED-LOCATION;VALUE=URI;X-ADDRESS=Lebanon Community Library 125 N. 7th St. Lebanon PA 17046 United States;X-APPLE-RADIUS=500;X-TITLE=125 N. 7th St.:geo:-76.4227409,40.3410676
END:VEVENT
BEGIN:VEVENT
DTSTART;TZID=America/New_York:20240326T180000
DTEND;TZID=America/New_York:20240326T200000
DTSTAMP:20260422T152335
CREATED:20180327T171605Z
LAST-MODIFIED:20250619T002843Z
UID:10003475-1711476000-1711483200@lebanon.lclibs.org
SUMMARY:Tuesday Evening Book Group
DESCRIPTION:Meets the last Tuesday of each month at 6pm in the library’s Community Room. The complete title list may be found here.
URL:https://lebanon.lclibs.org/event/tuesday-evening-book-group-2023-06-27/
LOCATION:Lebanon Community Library\, 125 N. 7th St.\, Lebanon\, PA\, 17046\, United States
CATEGORIES:Adult program,Adults,Book Club,Lebanon Community Library
GEO:40.3410676;-76.4227409
X-APPLE-STRUCTURED-LOCATION;VALUE=URI;X-ADDRESS=Lebanon Community Library 125 N. 7th St. Lebanon PA 17046 United States;X-APPLE-RADIUS=500;X-TITLE=125 N. 7th St.:geo:-76.4227409,40.3410676
END:VEVENT
BEGIN:VEVENT
DTSTART;TZID=America/New_York:20240326T180000
DTEND;TZID=America/New_York:20240326T200000
DTSTAMP:20260422T152335
CREATED:20180327T171605Z
LAST-MODIFIED:20250619T002843Z
UID:10003558-1711476000-1711483200@lebanon.lclibs.org
SUMMARY:Tuesday Evening Book Group
DESCRIPTION:Meets the last Tuesday of each month at 6pm in the library’s Community Room. The complete title list may be found here.
URL:https://lebanon.lclibs.org/event/tuesday-evening-book-group-2023-07-25/
LOCATION:Lebanon Community Library\, 125 N. 7th St.\, Lebanon\, PA\, 17046\, United States
CATEGORIES:Adult program,Adults,Book Club,Lebanon Community Library
GEO:40.3410676;-76.4227409
X-APPLE-STRUCTURED-LOCATION;VALUE=URI;X-ADDRESS=Lebanon Community Library 125 N. 7th St. Lebanon PA 17046 United States;X-APPLE-RADIUS=500;X-TITLE=125 N. 7th St.:geo:-76.4227409,40.3410676
END:VEVENT
BEGIN:VEVENT
DTSTART;TZID=America/New_York:20240326T180000
DTEND;TZID=America/New_York:20240326T200000
DTSTAMP:20260422T152335
CREATED:20180327T171605Z
LAST-MODIFIED:20250619T002843Z
UID:10004005-1711476000-1711483200@lebanon.lclibs.org
SUMMARY:Tuesday Evening Book Group
DESCRIPTION:Meets the last Tuesday of each month at 6pm in the library’s Community Room. The complete title list may be found here.
URL:https://lebanon.lclibs.org/event/tuesday-evening-book-group-2023-04-25/
LOCATION:Lebanon Community Library\, 125 N. 7th St.\, Lebanon\, PA\, 17046\, United States
CATEGORIES:Adult program,Adults,Book Club,Lebanon Community Library
GEO:40.3410676;-76.4227409
X-APPLE-STRUCTURED-LOCATION;VALUE=URI;X-ADDRESS=Lebanon Community Library 125 N. 7th St. Lebanon PA 17046 United States;X-APPLE-RADIUS=500;X-TITLE=125 N. 7th St.:geo:-76.4227409,40.3410676
END:VEVENT
BEGIN:VEVENT
DTSTART;TZID=America/New_York:20240307T140000
DTEND;TZID=America/New_York:20240307T153000
DTSTAMP:20260422T152335
CREATED:20180327T171221Z
LAST-MODIFIED:20251126T141442Z
UID:10001296-1709820000-1709825400@lebanon.lclibs.org
SUMMARY:Thursday Afternoon Book Group
DESCRIPTION:Meets the 1st Thursday of each month at 2pm in the library’s Community Room.
URL:https://lebanon.lclibs.org/event/thursday-afternoon-book-group/2024-03-07/
LOCATION:Lebanon Community Library\, 125 N. 7th St.\, Lebanon\, PA\, 17046\, United States
CATEGORIES:Adult program,Adults,Book Club,Lebanon Community Library
GEO:40.3410676;-76.4227409
X-APPLE-STRUCTURED-LOCATION;VALUE=URI;X-ADDRESS=Lebanon Community Library 125 N. 7th St. Lebanon PA 17046 United States;X-APPLE-RADIUS=500;X-TITLE=125 N. 7th St.:geo:-76.4227409,40.3410676
END:VEVENT
BEGIN:VEVENT
DTSTART;TZID=America/New_York:20240227T180000
DTEND;TZID=America/New_York:20240227T200000
DTSTAMP:20260422T152335
CREATED:20180327T171605Z
LAST-MODIFIED:20250619T002843Z
UID:10003390-1709056800-1709064000@lebanon.lclibs.org
SUMMARY:Tuesday Evening Book Group
DESCRIPTION:Meets the last Tuesday of each month at 6pm in the library’s Community Room. The complete title list may be found here.
URL:https://lebanon.lclibs.org/event/tuesday-evening-book-group-2023-05-30/
LOCATION:Lebanon Community Library\, 125 N. 7th St.\, Lebanon\, PA\, 17046\, United States
CATEGORIES:Adult program,Adults,Book Club,Lebanon Community Library
GEO:40.3410676;-76.4227409
X-APPLE-STRUCTURED-LOCATION;VALUE=URI;X-ADDRESS=Lebanon Community Library 125 N. 7th St. Lebanon PA 17046 United States;X-APPLE-RADIUS=500;X-TITLE=125 N. 7th St.:geo:-76.4227409,40.3410676
END:VEVENT
BEGIN:VEVENT
DTSTART;TZID=America/New_York:20240227T180000
DTEND;TZID=America/New_York:20240227T200000
DTSTAMP:20260422T152335
CREATED:20180327T171605Z
LAST-MODIFIED:20250619T002843Z
UID:10003474-1709056800-1709064000@lebanon.lclibs.org
SUMMARY:Tuesday Evening Book Group
DESCRIPTION:Meets the last Tuesday of each month at 6pm in the library’s Community Room. The complete title list may be found here.
URL:https://lebanon.lclibs.org/event/tuesday-evening-book-group-2023-06-27/
LOCATION:Lebanon Community Library\, 125 N. 7th St.\, Lebanon\, PA\, 17046\, United States
CATEGORIES:Adult program,Adults,Book Club,Lebanon Community Library
GEO:40.3410676;-76.4227409
X-APPLE-STRUCTURED-LOCATION;VALUE=URI;X-ADDRESS=Lebanon Community Library 125 N. 7th St. Lebanon PA 17046 United States;X-APPLE-RADIUS=500;X-TITLE=125 N. 7th St.:geo:-76.4227409,40.3410676
END:VEVENT
BEGIN:VEVENT
DTSTART;TZID=America/New_York:20240227T180000
DTEND;TZID=America/New_York:20240227T200000
DTSTAMP:20260422T152335
CREATED:20180327T171605Z
LAST-MODIFIED:20250619T002843Z
UID:10003557-1709056800-1709064000@lebanon.lclibs.org
SUMMARY:Tuesday Evening Book Group
DESCRIPTION:Meets the last Tuesday of each month at 6pm in the library’s Community Room. The complete title list may be found here.
URL:https://lebanon.lclibs.org/event/tuesday-evening-book-group-2023-07-25/
LOCATION:Lebanon Community Library\, 125 N. 7th St.\, Lebanon\, PA\, 17046\, United States
CATEGORIES:Adult program,Adults,Book Club,Lebanon Community Library
GEO:40.3410676;-76.4227409
X-APPLE-STRUCTURED-LOCATION;VALUE=URI;X-ADDRESS=Lebanon Community Library 125 N. 7th St. Lebanon PA 17046 United States;X-APPLE-RADIUS=500;X-TITLE=125 N. 7th St.:geo:-76.4227409,40.3410676
END:VEVENT
END:VCALENDAR