BEGIN:VCALENDAR
VERSION:2.0
PRODID:-//Lebanon Community Library - ECPv6.15.17.1//NONSGML v1.0//EN
CALSCALE:GREGORIAN
METHOD:PUBLISH
X-WR-CALNAME:Lebanon Community Library
X-ORIGINAL-URL:https://lebanon.lclibs.org
X-WR-CALDESC:Events for Lebanon Community Library
REFRESH-INTERVAL;VALUE=DURATION:PT1H
X-Robots-Tag:noindex
X-PUBLISHED-TTL:PT1H
BEGIN:VTIMEZONE
TZID:America/New_York
BEGIN:DAYLIGHT
TZOFFSETFROM:-0500
TZOFFSETTO:-0400
TZNAME:EDT
DTSTART:20220313T070000
END:DAYLIGHT
BEGIN:STANDARD
TZOFFSETFROM:-0400
TZOFFSETTO:-0500
TZNAME:EST
DTSTART:20221106T060000
END:STANDARD
BEGIN:DAYLIGHT
TZOFFSETFROM:-0500
TZOFFSETTO:-0400
TZNAME:EDT
DTSTART:20230312T070000
END:DAYLIGHT
BEGIN:STANDARD
TZOFFSETFROM:-0400
TZOFFSETTO:-0500
TZNAME:EST
DTSTART:20231105T060000
END:STANDARD
BEGIN:DAYLIGHT
TZOFFSETFROM:-0500
TZOFFSETTO:-0400
TZNAME:EDT
DTSTART:20240310T070000
END:DAYLIGHT
BEGIN:STANDARD
TZOFFSETFROM:-0400
TZOFFSETTO:-0500
TZNAME:EST
DTSTART:20241103T060000
END:STANDARD
BEGIN:DAYLIGHT
TZOFFSETFROM:-0500
TZOFFSETTO:-0400
TZNAME:EDT
DTSTART:20250309T070000
END:DAYLIGHT
BEGIN:STANDARD
TZOFFSETFROM:-0400
TZOFFSETTO:-0500
TZNAME:EST
DTSTART:20251102T060000
END:STANDARD
END:VTIMEZONE
BEGIN:VEVENT
DTSTART;TZID=America/New_York:20240130T180000
DTEND;TZID=America/New_York:20240130T200000
DTSTAMP:20260422T210034
CREATED:20180327T171605Z
LAST-MODIFIED:20250619T002843Z
UID:10003389-1706637600-1706644800@lebanon.lclibs.org
SUMMARY:Tuesday Evening Book Group
DESCRIPTION:Meets the last Tuesday of each month at 6pm in the library’s Community Room. The complete title list may be found here.
URL:https://lebanon.lclibs.org/event/tuesday-evening-book-group-2023-05-30/
LOCATION:Lebanon Community Library\, 125 N. 7th St.\, Lebanon\, PA\, 17046\, United States
CATEGORIES:Adult program,Adults,Book Club,Lebanon Community Library
GEO:40.3410676;-76.4227409
X-APPLE-STRUCTURED-LOCATION;VALUE=URI;X-ADDRESS=Lebanon Community Library 125 N. 7th St. Lebanon PA 17046 United States;X-APPLE-RADIUS=500;X-TITLE=125 N. 7th St.:geo:-76.4227409,40.3410676
END:VEVENT
BEGIN:VEVENT
DTSTART;TZID=America/New_York:20240126T100000
DTEND;TZID=America/New_York:20240126T120000
DTSTAMP:20260422T210034
CREATED:20231127T203349Z
LAST-MODIFIED:20241029T160220Z
UID:10000814-1706263200-1706270400@lebanon.lclibs.org
SUMMARY:Writers' Group
DESCRIPTION:The Writers’ Group meets the last Friday of each month from 10am until noon. Bring your ideas and writing to this informal group for inspiration\, feedback\, and more!
URL:https://lebanon.lclibs.org/event/writers-group-2/2024-01-26/
LOCATION:Lebanon Community Library\, 125 N. 7th St.\, Lebanon\, PA\, 17046\, United States
CATEGORIES:Adults,Teens
GEO:40.3410676;-76.4227409
X-APPLE-STRUCTURED-LOCATION;VALUE=URI;X-ADDRESS=Lebanon Community Library 125 N. 7th St. Lebanon PA 17046 United States;X-APPLE-RADIUS=500;X-TITLE=125 N. 7th St.:geo:-76.4227409,40.3410676
END:VEVENT
BEGIN:VEVENT
DTSTART;TZID=America/New_York:20240104T140000
DTEND;TZID=America/New_York:20240104T153000
DTSTAMP:20260422T210034
CREATED:20180327T171221Z
LAST-MODIFIED:20251126T141442Z
UID:10001294-1704376800-1704382200@lebanon.lclibs.org
SUMMARY:Thursday Afternoon Book Group
DESCRIPTION:Meets the 1st Thursday of each month at 2pm in the library’s Community Room.
URL:https://lebanon.lclibs.org/event/thursday-afternoon-book-group/2024-01-04/
LOCATION:Lebanon Community Library\, 125 N. 7th St.\, Lebanon\, PA\, 17046\, United States
CATEGORIES:Adult program,Adults,Book Club,Lebanon Community Library
GEO:40.3410676;-76.4227409
X-APPLE-STRUCTURED-LOCATION;VALUE=URI;X-ADDRESS=Lebanon Community Library 125 N. 7th St. Lebanon PA 17046 United States;X-APPLE-RADIUS=500;X-TITLE=125 N. 7th St.:geo:-76.4227409,40.3410676
END:VEVENT
BEGIN:VEVENT
DTSTART;TZID=America/New_York:20231229T100000
DTEND;TZID=America/New_York:20231229T120000
DTSTAMP:20260422T210034
CREATED:20231127T203349Z
LAST-MODIFIED:20241029T160220Z
UID:10001357-1703844000-1703851200@lebanon.lclibs.org
SUMMARY:Writers' Group
DESCRIPTION:The Writers’ Group meets the last Friday of each month from 10am until noon. Bring your ideas and writing to this informal group for inspiration\, feedback\, and more!
URL:https://lebanon.lclibs.org/event/writers-group-2/2023-12-29/
LOCATION:Lebanon Community Library\, 125 N. 7th St.\, Lebanon\, PA\, 17046\, United States
CATEGORIES:Adults,Teens
GEO:40.3410676;-76.4227409
X-APPLE-STRUCTURED-LOCATION;VALUE=URI;X-ADDRESS=Lebanon Community Library 125 N. 7th St. Lebanon PA 17046 United States;X-APPLE-RADIUS=500;X-TITLE=125 N. 7th St.:geo:-76.4227409,40.3410676
END:VEVENT
BEGIN:VEVENT
DTSTART;TZID=America/New_York:20231226T180000
DTEND;TZID=America/New_York:20231226T200000
DTSTAMP:20260422T210034
CREATED:20180327T171605Z
LAST-MODIFIED:20250619T002843Z
UID:10003472-1703613600-1703620800@lebanon.lclibs.org
SUMMARY:Tuesday Evening Book Group
DESCRIPTION:Meets the last Tuesday of each month at 6pm in the library’s Community Room. The complete title list may be found here.
URL:https://lebanon.lclibs.org/event/tuesday-evening-book-group-2023-06-27/
LOCATION:Lebanon Community Library\, 125 N. 7th St.\, Lebanon\, PA\, 17046\, United States
CATEGORIES:Adult program,Adults,Book Club,Lebanon Community Library
GEO:40.3410676;-76.4227409
X-APPLE-STRUCTURED-LOCATION;VALUE=URI;X-ADDRESS=Lebanon Community Library 125 N. 7th St. Lebanon PA 17046 United States;X-APPLE-RADIUS=500;X-TITLE=125 N. 7th St.:geo:-76.4227409,40.3410676
END:VEVENT
BEGIN:VEVENT
DTSTART;TZID=America/New_York:20231226T180000
DTEND;TZID=America/New_York:20231226T200000
DTSTAMP:20260422T210035
CREATED:20180327T171605Z
LAST-MODIFIED:20250619T002843Z
UID:10003555-1703613600-1703620800@lebanon.lclibs.org
SUMMARY:Tuesday Evening Book Group
DESCRIPTION:Meets the last Tuesday of each month at 6pm in the library’s Community Room. The complete title list may be found here.
URL:https://lebanon.lclibs.org/event/tuesday-evening-book-group-2023-07-25/
LOCATION:Lebanon Community Library\, 125 N. 7th St.\, Lebanon\, PA\, 17046\, United States
CATEGORIES:Adult program,Adults,Book Club,Lebanon Community Library
GEO:40.3410676;-76.4227409
X-APPLE-STRUCTURED-LOCATION;VALUE=URI;X-ADDRESS=Lebanon Community Library 125 N. 7th St. Lebanon PA 17046 United States;X-APPLE-RADIUS=500;X-TITLE=125 N. 7th St.:geo:-76.4227409,40.3410676
END:VEVENT
BEGIN:VEVENT
DTSTART;TZID=America/New_York:20231226T180000
DTEND;TZID=America/New_York:20231226T200000
DTSTAMP:20260422T210035
CREATED:20180327T171605Z
LAST-MODIFIED:20250619T002843Z
UID:10004002-1703613600-1703620800@lebanon.lclibs.org
SUMMARY:Tuesday Evening Book Group
DESCRIPTION:Meets the last Tuesday of each month at 6pm in the library’s Community Room. The complete title list may be found here.
URL:https://lebanon.lclibs.org/event/tuesday-evening-book-group-2023-04-25/
LOCATION:Lebanon Community Library\, 125 N. 7th St.\, Lebanon\, PA\, 17046\, United States
CATEGORIES:Adult program,Adults,Book Club,Lebanon Community Library
GEO:40.3410676;-76.4227409
X-APPLE-STRUCTURED-LOCATION;VALUE=URI;X-ADDRESS=Lebanon Community Library 125 N. 7th St. Lebanon PA 17046 United States;X-APPLE-RADIUS=500;X-TITLE=125 N. 7th St.:geo:-76.4227409,40.3410676
END:VEVENT
BEGIN:VEVENT
DTSTART;TZID=America/New_York:20231226T180000
DTEND;TZID=America/New_York:20231226T200000
DTSTAMP:20260422T210035
CREATED:20180327T171605Z
LAST-MODIFIED:20250619T002843Z
UID:10003388-1703613600-1703620800@lebanon.lclibs.org
SUMMARY:Tuesday Evening Book Group
DESCRIPTION:Meets the last Tuesday of each month at 6pm in the library’s Community Room. The complete title list may be found here.
URL:https://lebanon.lclibs.org/event/tuesday-evening-book-group-2023-05-30/
LOCATION:Lebanon Community Library\, 125 N. 7th St.\, Lebanon\, PA\, 17046\, United States
CATEGORIES:Adult program,Adults,Book Club,Lebanon Community Library
GEO:40.3410676;-76.4227409
X-APPLE-STRUCTURED-LOCATION;VALUE=URI;X-ADDRESS=Lebanon Community Library 125 N. 7th St. Lebanon PA 17046 United States;X-APPLE-RADIUS=500;X-TITLE=125 N. 7th St.:geo:-76.4227409,40.3410676
END:VEVENT
BEGIN:VEVENT
DTSTART;TZID=America/New_York:20231207T140000
DTEND;TZID=America/New_York:20231207T153000
DTSTAMP:20260422T210035
CREATED:20180327T171221Z
LAST-MODIFIED:20251126T141442Z
UID:10001293-1701957600-1701963000@lebanon.lclibs.org
SUMMARY:Thursday Afternoon Book Group
DESCRIPTION:Meets the 1st Thursday of each month at 2pm in the library’s Community Room.
URL:https://lebanon.lclibs.org/event/thursday-afternoon-book-group/2023-12-07/
LOCATION:Lebanon Community Library\, 125 N. 7th St.\, Lebanon\, PA\, 17046\, United States
CATEGORIES:Adult program,Adults,Book Club,Lebanon Community Library
GEO:40.3410676;-76.4227409
X-APPLE-STRUCTURED-LOCATION;VALUE=URI;X-ADDRESS=Lebanon Community Library 125 N. 7th St. Lebanon PA 17046 United States;X-APPLE-RADIUS=500;X-TITLE=125 N. 7th St.:geo:-76.4227409,40.3410676
END:VEVENT
BEGIN:VEVENT
DTSTART;TZID=America/New_York:20231128T180000
DTEND;TZID=America/New_York:20231128T200000
DTSTAMP:20260422T210035
CREATED:20180327T171605Z
LAST-MODIFIED:20250619T002843Z
UID:10003554-1701194400-1701201600@lebanon.lclibs.org
SUMMARY:Tuesday Evening Book Group
DESCRIPTION:Meets the last Tuesday of each month at 6pm in the library’s Community Room. The complete title list may be found here.
URL:https://lebanon.lclibs.org/event/tuesday-evening-book-group-2023-07-25/
LOCATION:Lebanon Community Library\, 125 N. 7th St.\, Lebanon\, PA\, 17046\, United States
CATEGORIES:Adult program,Adults,Book Club,Lebanon Community Library
GEO:40.3410676;-76.4227409
X-APPLE-STRUCTURED-LOCATION;VALUE=URI;X-ADDRESS=Lebanon Community Library 125 N. 7th St. Lebanon PA 17046 United States;X-APPLE-RADIUS=500;X-TITLE=125 N. 7th St.:geo:-76.4227409,40.3410676
END:VEVENT
BEGIN:VEVENT
DTSTART;TZID=America/New_York:20231128T180000
DTEND;TZID=America/New_York:20231128T200000
DTSTAMP:20260422T210035
CREATED:20180327T171605Z
LAST-MODIFIED:20250619T002843Z
UID:10004001-1701194400-1701201600@lebanon.lclibs.org
SUMMARY:Tuesday Evening Book Group
DESCRIPTION:Meets the last Tuesday of each month at 6pm in the library’s Community Room. The complete title list may be found here.
URL:https://lebanon.lclibs.org/event/tuesday-evening-book-group-2023-04-25/
LOCATION:Lebanon Community Library\, 125 N. 7th St.\, Lebanon\, PA\, 17046\, United States
CATEGORIES:Adult program,Adults,Book Club,Lebanon Community Library
GEO:40.3410676;-76.4227409
X-APPLE-STRUCTURED-LOCATION;VALUE=URI;X-ADDRESS=Lebanon Community Library 125 N. 7th St. Lebanon PA 17046 United States;X-APPLE-RADIUS=500;X-TITLE=125 N. 7th St.:geo:-76.4227409,40.3410676
END:VEVENT
BEGIN:VEVENT
DTSTART;TZID=America/New_York:20231128T180000
DTEND;TZID=America/New_York:20231128T200000
DTSTAMP:20260422T210035
CREATED:20180327T171605Z
LAST-MODIFIED:20250619T002843Z
UID:10003387-1701194400-1701201600@lebanon.lclibs.org
SUMMARY:Tuesday Evening Book Group
DESCRIPTION:Meets the last Tuesday of each month at 6pm in the library’s Community Room. The complete title list may be found here.
URL:https://lebanon.lclibs.org/event/tuesday-evening-book-group-2023-05-30/
LOCATION:Lebanon Community Library\, 125 N. 7th St.\, Lebanon\, PA\, 17046\, United States
CATEGORIES:Adult program,Adults,Book Club,Lebanon Community Library
GEO:40.3410676;-76.4227409
X-APPLE-STRUCTURED-LOCATION;VALUE=URI;X-ADDRESS=Lebanon Community Library 125 N. 7th St. Lebanon PA 17046 United States;X-APPLE-RADIUS=500;X-TITLE=125 N. 7th St.:geo:-76.4227409,40.3410676
END:VEVENT
BEGIN:VEVENT
DTSTART;TZID=America/New_York:20231128T180000
DTEND;TZID=America/New_York:20231128T200000
DTSTAMP:20260422T210035
CREATED:20180327T171605Z
LAST-MODIFIED:20250619T002843Z
UID:10003471-1701194400-1701201600@lebanon.lclibs.org
SUMMARY:Tuesday Evening Book Group
DESCRIPTION:Meets the last Tuesday of each month at 6pm in the library’s Community Room. The complete title list may be found here.
URL:https://lebanon.lclibs.org/event/tuesday-evening-book-group-2023-06-27/
LOCATION:Lebanon Community Library\, 125 N. 7th St.\, Lebanon\, PA\, 17046\, United States
CATEGORIES:Adult program,Adults,Book Club,Lebanon Community Library
GEO:40.3410676;-76.4227409
X-APPLE-STRUCTURED-LOCATION;VALUE=URI;X-ADDRESS=Lebanon Community Library 125 N. 7th St. Lebanon PA 17046 United States;X-APPLE-RADIUS=500;X-TITLE=125 N. 7th St.:geo:-76.4227409,40.3410676
END:VEVENT
BEGIN:VEVENT
DTSTART;TZID=America/New_York:20231124T100000
DTEND;TZID=America/New_York:20231124T120000
DTSTAMP:20260422T210035
CREATED:20231127T203349Z
LAST-MODIFIED:20241029T160220Z
UID:10002044-1700820000-1700827200@lebanon.lclibs.org
SUMMARY:Writers' Group
DESCRIPTION:The Writers’ Group meets the last Friday of each month from 10am until noon. Bring your ideas and writing to this informal group for inspiration\, feedback\, and more!
URL:https://lebanon.lclibs.org/event/writers-group-2/2023-11-24/
LOCATION:Lebanon Community Library\, 125 N. 7th St.\, Lebanon\, PA\, 17046\, United States
CATEGORIES:Adults,Teens
GEO:40.3410676;-76.4227409
X-APPLE-STRUCTURED-LOCATION;VALUE=URI;X-ADDRESS=Lebanon Community Library 125 N. 7th St. Lebanon PA 17046 United States;X-APPLE-RADIUS=500;X-TITLE=125 N. 7th St.:geo:-76.4227409,40.3410676
END:VEVENT
BEGIN:VEVENT
DTSTART;TZID=America/New_York:20231102T140000
DTEND;TZID=America/New_York:20231102T153000
DTSTAMP:20260422T210035
CREATED:20180327T171221Z
LAST-MODIFIED:20251126T141442Z
UID:10001292-1698933600-1698939000@lebanon.lclibs.org
SUMMARY:Thursday Afternoon Book Group
DESCRIPTION:Meets the 1st Thursday of each month at 2pm in the library’s Community Room.
URL:https://lebanon.lclibs.org/event/thursday-afternoon-book-group/2023-11-02/
LOCATION:Lebanon Community Library\, 125 N. 7th St.\, Lebanon\, PA\, 17046\, United States
CATEGORIES:Adult program,Adults,Book Club,Lebanon Community Library
GEO:40.3410676;-76.4227409
X-APPLE-STRUCTURED-LOCATION;VALUE=URI;X-ADDRESS=Lebanon Community Library 125 N. 7th St. Lebanon PA 17046 United States;X-APPLE-RADIUS=500;X-TITLE=125 N. 7th St.:geo:-76.4227409,40.3410676
END:VEVENT
BEGIN:VEVENT
DTSTART;TZID=America/New_York:20231031T180000
DTEND;TZID=America/New_York:20231031T200000
DTSTAMP:20260422T210035
CREATED:20180327T171605Z
LAST-MODIFIED:20250619T002843Z
UID:10004000-1698775200-1698782400@lebanon.lclibs.org
SUMMARY:Tuesday Evening Book Group
DESCRIPTION:Meets the last Tuesday of each month at 6pm in the library’s Community Room. The complete title list may be found here.
URL:https://lebanon.lclibs.org/event/tuesday-evening-book-group-2023-04-25/
LOCATION:Lebanon Community Library\, 125 N. 7th St.\, Lebanon\, PA\, 17046\, United States
CATEGORIES:Adult program,Adults,Book Club,Lebanon Community Library
GEO:40.3410676;-76.4227409
X-APPLE-STRUCTURED-LOCATION;VALUE=URI;X-ADDRESS=Lebanon Community Library 125 N. 7th St. Lebanon PA 17046 United States;X-APPLE-RADIUS=500;X-TITLE=125 N. 7th St.:geo:-76.4227409,40.3410676
END:VEVENT
BEGIN:VEVENT
DTSTART;TZID=America/New_York:20231031T180000
DTEND;TZID=America/New_York:20231031T200000
DTSTAMP:20260422T210035
CREATED:20180327T171605Z
LAST-MODIFIED:20250619T002843Z
UID:10003386-1698775200-1698782400@lebanon.lclibs.org
SUMMARY:Tuesday Evening Book Group
DESCRIPTION:Meets the last Tuesday of each month at 6pm in the library’s Community Room. The complete title list may be found here.
URL:https://lebanon.lclibs.org/event/tuesday-evening-book-group-2023-05-30/
LOCATION:Lebanon Community Library\, 125 N. 7th St.\, Lebanon\, PA\, 17046\, United States
CATEGORIES:Adult program,Adults,Book Club,Lebanon Community Library
GEO:40.3410676;-76.4227409
X-APPLE-STRUCTURED-LOCATION;VALUE=URI;X-ADDRESS=Lebanon Community Library 125 N. 7th St. Lebanon PA 17046 United States;X-APPLE-RADIUS=500;X-TITLE=125 N. 7th St.:geo:-76.4227409,40.3410676
END:VEVENT
BEGIN:VEVENT
DTSTART;TZID=America/New_York:20231031T180000
DTEND;TZID=America/New_York:20231031T200000
DTSTAMP:20260422T210035
CREATED:20180327T171605Z
LAST-MODIFIED:20250619T002843Z
UID:10003470-1698775200-1698782400@lebanon.lclibs.org
SUMMARY:Tuesday Evening Book Group
DESCRIPTION:Meets the last Tuesday of each month at 6pm in the library’s Community Room. The complete title list may be found here.
URL:https://lebanon.lclibs.org/event/tuesday-evening-book-group-2023-06-27/
LOCATION:Lebanon Community Library\, 125 N. 7th St.\, Lebanon\, PA\, 17046\, United States
CATEGORIES:Adult program,Adults,Book Club,Lebanon Community Library
GEO:40.3410676;-76.4227409
X-APPLE-STRUCTURED-LOCATION;VALUE=URI;X-ADDRESS=Lebanon Community Library 125 N. 7th St. Lebanon PA 17046 United States;X-APPLE-RADIUS=500;X-TITLE=125 N. 7th St.:geo:-76.4227409,40.3410676
END:VEVENT
BEGIN:VEVENT
DTSTART;TZID=America/New_York:20231031T180000
DTEND;TZID=America/New_York:20231031T200000
DTSTAMP:20260422T210035
CREATED:20180327T171605Z
LAST-MODIFIED:20250619T002843Z
UID:10003553-1698775200-1698782400@lebanon.lclibs.org
SUMMARY:Tuesday Evening Book Group
DESCRIPTION:Meets the last Tuesday of each month at 6pm in the library’s Community Room. The complete title list may be found here.
URL:https://lebanon.lclibs.org/event/tuesday-evening-book-group-2023-07-25/
LOCATION:Lebanon Community Library\, 125 N. 7th St.\, Lebanon\, PA\, 17046\, United States
CATEGORIES:Adult program,Adults,Book Club,Lebanon Community Library
GEO:40.3410676;-76.4227409
X-APPLE-STRUCTURED-LOCATION;VALUE=URI;X-ADDRESS=Lebanon Community Library 125 N. 7th St. Lebanon PA 17046 United States;X-APPLE-RADIUS=500;X-TITLE=125 N. 7th St.:geo:-76.4227409,40.3410676
END:VEVENT
BEGIN:VEVENT
DTSTART;TZID=America/New_York:20231027T100000
DTEND;TZID=America/New_York:20231027T120000
DTSTAMP:20260422T210035
CREATED:20231127T203349Z
LAST-MODIFIED:20241029T160220Z
UID:10000446-1698400800-1698408000@lebanon.lclibs.org
SUMMARY:Writers' Group
DESCRIPTION:The Writers’ Group meets the last Friday of each month from 10am until noon. Bring your ideas and writing to this informal group for inspiration\, feedback\, and more!
URL:https://lebanon.lclibs.org/event/writers-group-2/2023-10-27/
LOCATION:Lebanon Community Library\, 125 N. 7th St.\, Lebanon\, PA\, 17046\, United States
CATEGORIES:Adults,Teens
GEO:40.3410676;-76.4227409
X-APPLE-STRUCTURED-LOCATION;VALUE=URI;X-ADDRESS=Lebanon Community Library 125 N. 7th St. Lebanon PA 17046 United States;X-APPLE-RADIUS=500;X-TITLE=125 N. 7th St.:geo:-76.4227409,40.3410676
END:VEVENT
BEGIN:VEVENT
DTSTART;TZID=America/New_York:20231005T140000
DTEND;TZID=America/New_York:20231005T153000
DTSTAMP:20260422T210035
CREATED:20180327T171221Z
LAST-MODIFIED:20251126T141442Z
UID:10000205-1696514400-1696519800@lebanon.lclibs.org
SUMMARY:Thursday Afternoon Book Group
DESCRIPTION:Meets the 1st Thursday of each month at 2pm in the library’s Community Room.
URL:https://lebanon.lclibs.org/event/thursday-afternoon-book-group/2023-10-05/
LOCATION:Lebanon Community Library\, 125 N. 7th St.\, Lebanon\, PA\, 17046\, United States
CATEGORIES:Adult program,Adults,Book Club,Lebanon Community Library
GEO:40.3410676;-76.4227409
X-APPLE-STRUCTURED-LOCATION;VALUE=URI;X-ADDRESS=Lebanon Community Library 125 N. 7th St. Lebanon PA 17046 United States;X-APPLE-RADIUS=500;X-TITLE=125 N. 7th St.:geo:-76.4227409,40.3410676
END:VEVENT
BEGIN:VEVENT
DTSTART;TZID=America/New_York:20230926T180000
DTEND;TZID=America/New_York:20230926T200000
DTSTAMP:20260422T210035
CREATED:20180327T171605Z
LAST-MODIFIED:20250619T002843Z
UID:10003999-1695751200-1695758400@lebanon.lclibs.org
SUMMARY:Tuesday Evening Book Group
DESCRIPTION:Meets the last Tuesday of each month at 6pm in the library’s Community Room. The complete title list may be found here.
URL:https://lebanon.lclibs.org/event/tuesday-evening-book-group-2023-04-25/
LOCATION:Lebanon Community Library\, 125 N. 7th St.\, Lebanon\, PA\, 17046\, United States
CATEGORIES:Adult program,Adults,Book Club,Lebanon Community Library
GEO:40.3410676;-76.4227409
X-APPLE-STRUCTURED-LOCATION;VALUE=URI;X-ADDRESS=Lebanon Community Library 125 N. 7th St. Lebanon PA 17046 United States;X-APPLE-RADIUS=500;X-TITLE=125 N. 7th St.:geo:-76.4227409,40.3410676
END:VEVENT
BEGIN:VEVENT
DTSTART;TZID=America/New_York:20230926T180000
DTEND;TZID=America/New_York:20230926T200000
DTSTAMP:20260422T210035
CREATED:20180327T171605Z
LAST-MODIFIED:20250619T002843Z
UID:10003385-1695751200-1695758400@lebanon.lclibs.org
SUMMARY:Tuesday Evening Book Group
DESCRIPTION:Meets the last Tuesday of each month at 6pm in the library’s Community Room. The complete title list may be found here.
URL:https://lebanon.lclibs.org/event/tuesday-evening-book-group-2023-05-30/
LOCATION:Lebanon Community Library\, 125 N. 7th St.\, Lebanon\, PA\, 17046\, United States
CATEGORIES:Adult program,Adults,Book Club,Lebanon Community Library
GEO:40.3410676;-76.4227409
X-APPLE-STRUCTURED-LOCATION;VALUE=URI;X-ADDRESS=Lebanon Community Library 125 N. 7th St. Lebanon PA 17046 United States;X-APPLE-RADIUS=500;X-TITLE=125 N. 7th St.:geo:-76.4227409,40.3410676
END:VEVENT
BEGIN:VEVENT
DTSTART;TZID=America/New_York:20230926T180000
DTEND;TZID=America/New_York:20230926T200000
DTSTAMP:20260422T210035
CREATED:20180327T171605Z
LAST-MODIFIED:20250619T002843Z
UID:10003469-1695751200-1695758400@lebanon.lclibs.org
SUMMARY:Tuesday Evening Book Group
DESCRIPTION:Meets the last Tuesday of each month at 6pm in the library’s Community Room. The complete title list may be found here.
URL:https://lebanon.lclibs.org/event/tuesday-evening-book-group-2023-06-27/
LOCATION:Lebanon Community Library\, 125 N. 7th St.\, Lebanon\, PA\, 17046\, United States
CATEGORIES:Adult program,Adults,Book Club,Lebanon Community Library
GEO:40.3410676;-76.4227409
X-APPLE-STRUCTURED-LOCATION;VALUE=URI;X-ADDRESS=Lebanon Community Library 125 N. 7th St. Lebanon PA 17046 United States;X-APPLE-RADIUS=500;X-TITLE=125 N. 7th St.:geo:-76.4227409,40.3410676
END:VEVENT
BEGIN:VEVENT
DTSTART;TZID=America/New_York:20230926T180000
DTEND;TZID=America/New_York:20230926T200000
DTSTAMP:20260422T210035
CREATED:20180327T171605Z
LAST-MODIFIED:20250619T002843Z
UID:10003552-1695751200-1695758400@lebanon.lclibs.org
SUMMARY:Tuesday Evening Book Group
DESCRIPTION:Meets the last Tuesday of each month at 6pm in the library’s Community Room. The complete title list may be found here.
URL:https://lebanon.lclibs.org/event/tuesday-evening-book-group-2023-07-25/
LOCATION:Lebanon Community Library\, 125 N. 7th St.\, Lebanon\, PA\, 17046\, United States
CATEGORIES:Adult program,Adults,Book Club,Lebanon Community Library
GEO:40.3410676;-76.4227409
X-APPLE-STRUCTURED-LOCATION;VALUE=URI;X-ADDRESS=Lebanon Community Library 125 N. 7th St. Lebanon PA 17046 United States;X-APPLE-RADIUS=500;X-TITLE=125 N. 7th St.:geo:-76.4227409,40.3410676
END:VEVENT
BEGIN:VEVENT
DTSTART;TZID=America/New_York:20230907T140000
DTEND;TZID=America/New_York:20230907T153000
DTSTAMP:20260422T210035
CREATED:20180327T171221Z
LAST-MODIFIED:20251126T141442Z
UID:10000204-1694095200-1694100600@lebanon.lclibs.org
SUMMARY:Thursday Afternoon Book Group
DESCRIPTION:Meets the 1st Thursday of each month at 2pm in the library’s Community Room.
URL:https://lebanon.lclibs.org/event/thursday-afternoon-book-group/2023-09-07/
LOCATION:Lebanon Community Library\, 125 N. 7th St.\, Lebanon\, PA\, 17046\, United States
CATEGORIES:Adult program,Adults,Book Club,Lebanon Community Library
GEO:40.3410676;-76.4227409
X-APPLE-STRUCTURED-LOCATION;VALUE=URI;X-ADDRESS=Lebanon Community Library 125 N. 7th St. Lebanon PA 17046 United States;X-APPLE-RADIUS=500;X-TITLE=125 N. 7th St.:geo:-76.4227409,40.3410676
END:VEVENT
BEGIN:VEVENT
DTSTART;TZID=America/New_York:20230829T180000
DTEND;TZID=America/New_York:20230829T200000
DTSTAMP:20260422T210035
CREATED:20180327T171605Z
LAST-MODIFIED:20250619T002843Z
UID:10003384-1693332000-1693339200@lebanon.lclibs.org
SUMMARY:Tuesday Evening Book Group
DESCRIPTION:Meets the last Tuesday of each month at 6pm in the library’s Community Room. The complete title list may be found here.
URL:https://lebanon.lclibs.org/event/tuesday-evening-book-group-2023-05-30/
LOCATION:Lebanon Community Library\, 125 N. 7th St.\, Lebanon\, PA\, 17046\, United States
CATEGORIES:Adult program,Adults,Book Club,Lebanon Community Library
GEO:40.3410676;-76.4227409
X-APPLE-STRUCTURED-LOCATION;VALUE=URI;X-ADDRESS=Lebanon Community Library 125 N. 7th St. Lebanon PA 17046 United States;X-APPLE-RADIUS=500;X-TITLE=125 N. 7th St.:geo:-76.4227409,40.3410676
END:VEVENT
BEGIN:VEVENT
DTSTART;TZID=America/New_York:20230829T180000
DTEND;TZID=America/New_York:20230829T200000
DTSTAMP:20260422T210035
CREATED:20180327T171605Z
LAST-MODIFIED:20250619T002843Z
UID:10003468-1693332000-1693339200@lebanon.lclibs.org
SUMMARY:Tuesday Evening Book Group
DESCRIPTION:Meets the last Tuesday of each month at 6pm in the library’s Community Room. The complete title list may be found here.
URL:https://lebanon.lclibs.org/event/tuesday-evening-book-group-2023-06-27/
LOCATION:Lebanon Community Library\, 125 N. 7th St.\, Lebanon\, PA\, 17046\, United States
CATEGORIES:Adult program,Adults,Book Club,Lebanon Community Library
GEO:40.3410676;-76.4227409
X-APPLE-STRUCTURED-LOCATION;VALUE=URI;X-ADDRESS=Lebanon Community Library 125 N. 7th St. Lebanon PA 17046 United States;X-APPLE-RADIUS=500;X-TITLE=125 N. 7th St.:geo:-76.4227409,40.3410676
END:VEVENT
BEGIN:VEVENT
DTSTART;TZID=America/New_York:20230829T180000
DTEND;TZID=America/New_York:20230829T200000
DTSTAMP:20260422T210035
CREATED:20180327T171605Z
LAST-MODIFIED:20250619T002843Z
UID:10003551-1693332000-1693339200@lebanon.lclibs.org
SUMMARY:Tuesday Evening Book Group
DESCRIPTION:Meets the last Tuesday of each month at 6pm in the library’s Community Room. The complete title list may be found here.
URL:https://lebanon.lclibs.org/event/tuesday-evening-book-group-2023-07-25/
LOCATION:Lebanon Community Library\, 125 N. 7th St.\, Lebanon\, PA\, 17046\, United States
CATEGORIES:Adult program,Adults,Book Club,Lebanon Community Library
GEO:40.3410676;-76.4227409
X-APPLE-STRUCTURED-LOCATION;VALUE=URI;X-ADDRESS=Lebanon Community Library 125 N. 7th St. Lebanon PA 17046 United States;X-APPLE-RADIUS=500;X-TITLE=125 N. 7th St.:geo:-76.4227409,40.3410676
END:VEVENT
BEGIN:VEVENT
DTSTART;TZID=America/New_York:20230829T180000
DTEND;TZID=America/New_York:20230829T200000
DTSTAMP:20260422T210035
CREATED:20180327T171605Z
LAST-MODIFIED:20250619T002843Z
UID:10003998-1693332000-1693339200@lebanon.lclibs.org
SUMMARY:Tuesday Evening Book Group
DESCRIPTION:Meets the last Tuesday of each month at 6pm in the library’s Community Room. The complete title list may be found here.
URL:https://lebanon.lclibs.org/event/tuesday-evening-book-group-2023-04-25/
LOCATION:Lebanon Community Library\, 125 N. 7th St.\, Lebanon\, PA\, 17046\, United States
CATEGORIES:Adult program,Adults,Book Club,Lebanon Community Library
GEO:40.3410676;-76.4227409
X-APPLE-STRUCTURED-LOCATION;VALUE=URI;X-ADDRESS=Lebanon Community Library 125 N. 7th St. Lebanon PA 17046 United States;X-APPLE-RADIUS=500;X-TITLE=125 N. 7th St.:geo:-76.4227409,40.3410676
END:VEVENT
END:VCALENDAR