BEGIN:VCALENDAR
VERSION:2.0
PRODID:-//Lebanon Community Library - ECPv6.15.17.1//NONSGML v1.0//EN
CALSCALE:GREGORIAN
METHOD:PUBLISH
X-WR-CALNAME:Lebanon Community Library
X-ORIGINAL-URL:https://lebanon.lclibs.org
X-WR-CALDESC:Events for Lebanon Community Library
REFRESH-INTERVAL;VALUE=DURATION:PT1H
X-Robots-Tag:noindex
X-PUBLISHED-TTL:PT1H
BEGIN:VTIMEZONE
TZID:America/New_York
BEGIN:DAYLIGHT
TZOFFSETFROM:-0500
TZOFFSETTO:-0400
TZNAME:EDT
DTSTART:20210314T070000
END:DAYLIGHT
BEGIN:STANDARD
TZOFFSETFROM:-0400
TZOFFSETTO:-0500
TZNAME:EST
DTSTART:20211107T060000
END:STANDARD
BEGIN:DAYLIGHT
TZOFFSETFROM:-0500
TZOFFSETTO:-0400
TZNAME:EDT
DTSTART:20220313T070000
END:DAYLIGHT
BEGIN:STANDARD
TZOFFSETFROM:-0400
TZOFFSETTO:-0500
TZNAME:EST
DTSTART:20221106T060000
END:STANDARD
BEGIN:DAYLIGHT
TZOFFSETFROM:-0500
TZOFFSETTO:-0400
TZNAME:EDT
DTSTART:20230312T070000
END:DAYLIGHT
BEGIN:STANDARD
TZOFFSETFROM:-0400
TZOFFSETTO:-0500
TZNAME:EST
DTSTART:20231105T060000
END:STANDARD
BEGIN:DAYLIGHT
TZOFFSETFROM:-0500
TZOFFSETTO:-0400
TZNAME:EDT
DTSTART:20240310T070000
END:DAYLIGHT
BEGIN:STANDARD
TZOFFSETFROM:-0400
TZOFFSETTO:-0500
TZNAME:EST
DTSTART:20241103T060000
END:STANDARD
END:VTIMEZONE
BEGIN:VEVENT
DTSTART;TZID=America/New_York:20230627T180000
DTEND;TZID=America/New_York:20230627T200000
DTSTAMP:20260423T025543
CREATED:20180327T171605Z
LAST-MODIFIED:20250619T002843Z
UID:10003382-1687888800-1687896000@lebanon.lclibs.org
SUMMARY:Tuesday Evening Book Group
DESCRIPTION:Meets the last Tuesday of each month at 6pm in the library’s Community Room. The complete title list may be found here.
URL:https://lebanon.lclibs.org/event/tuesday-evening-book-group-2023-05-30/
LOCATION:Lebanon Community Library\, 125 N. 7th St.\, Lebanon\, PA\, 17046\, United States
CATEGORIES:Adult program,Adults,Book Club,Lebanon Community Library
GEO:40.3410676;-76.4227409
X-APPLE-STRUCTURED-LOCATION;VALUE=URI;X-ADDRESS=Lebanon Community Library 125 N. 7th St. Lebanon PA 17046 United States;X-APPLE-RADIUS=500;X-TITLE=125 N. 7th St.:geo:-76.4227409,40.3410676
END:VEVENT
BEGIN:VEVENT
DTSTART;TZID=America/New_York:20230627T180000
DTEND;TZID=America/New_York:20230627T200000
DTSTAMP:20260423T025543
CREATED:20180327T171605Z
LAST-MODIFIED:20250619T002843Z
UID:10003466-1687888800-1687896000@lebanon.lclibs.org
SUMMARY:Tuesday Evening Book Group
DESCRIPTION:Meets the last Tuesday of each month at 6pm in the library’s Community Room. The complete title list may be found here.
URL:https://lebanon.lclibs.org/event/tuesday-evening-book-group-2023-06-27/
LOCATION:Lebanon Community Library\, 125 N. 7th St.\, Lebanon\, PA\, 17046\, United States
CATEGORIES:Adult program,Adults,Book Club,Lebanon Community Library
GEO:40.3410676;-76.4227409
X-APPLE-STRUCTURED-LOCATION;VALUE=URI;X-ADDRESS=Lebanon Community Library 125 N. 7th St. Lebanon PA 17046 United States;X-APPLE-RADIUS=500;X-TITLE=125 N. 7th St.:geo:-76.4227409,40.3410676
END:VEVENT
BEGIN:VEVENT
DTSTART;TZID=America/New_York:20230627T180000
DTEND;TZID=America/New_York:20230627T200000
DTSTAMP:20260423T025543
CREATED:20180327T171605Z
LAST-MODIFIED:20250619T002843Z
UID:10003996-1687888800-1687896000@lebanon.lclibs.org
SUMMARY:Tuesday Evening Book Group
DESCRIPTION:Meets the last Tuesday of each month at 6pm in the library’s Community Room. The complete title list may be found here.
URL:https://lebanon.lclibs.org/event/tuesday-evening-book-group-2023-04-25/
LOCATION:Lebanon Community Library\, 125 N. 7th St.\, Lebanon\, PA\, 17046\, United States
CATEGORIES:Adult program,Adults,Book Club,Lebanon Community Library
GEO:40.3410676;-76.4227409
X-APPLE-STRUCTURED-LOCATION;VALUE=URI;X-ADDRESS=Lebanon Community Library 125 N. 7th St. Lebanon PA 17046 United States;X-APPLE-RADIUS=500;X-TITLE=125 N. 7th St.:geo:-76.4227409,40.3410676
END:VEVENT
BEGIN:VEVENT
DTSTART;TZID=America/New_York:20230601T140000
DTEND;TZID=America/New_York:20230601T153000
DTSTAMP:20260423T025543
CREATED:20180327T171221Z
LAST-MODIFIED:20251126T141442Z
UID:10000201-1685628000-1685633400@lebanon.lclibs.org
SUMMARY:Thursday Afternoon Book Group
DESCRIPTION:Meets the 1st Thursday of each month at 2pm in the library’s Community Room.
URL:https://lebanon.lclibs.org/event/thursday-afternoon-book-group/2023-06-01/
LOCATION:Lebanon Community Library\, 125 N. 7th St.\, Lebanon\, PA\, 17046\, United States
CATEGORIES:Adult program,Adults,Book Club,Lebanon Community Library
GEO:40.3410676;-76.4227409
X-APPLE-STRUCTURED-LOCATION;VALUE=URI;X-ADDRESS=Lebanon Community Library 125 N. 7th St. Lebanon PA 17046 United States;X-APPLE-RADIUS=500;X-TITLE=125 N. 7th St.:geo:-76.4227409,40.3410676
END:VEVENT
BEGIN:VEVENT
DTSTART;TZID=America/New_York:20230530T180000
DTEND;TZID=America/New_York:20230530T200000
DTSTAMP:20260423T025543
CREATED:20180327T171605Z
LAST-MODIFIED:20250619T002843Z
UID:10003995-1685469600-1685476800@lebanon.lclibs.org
SUMMARY:Tuesday Evening Book Group
DESCRIPTION:Meets the last Tuesday of each month at 6pm in the library’s Community Room. The complete title list may be found here.
URL:https://lebanon.lclibs.org/event/tuesday-evening-book-group-2023-04-25/
LOCATION:Lebanon Community Library\, 125 N. 7th St.\, Lebanon\, PA\, 17046\, United States
CATEGORIES:Adult program,Adults,Book Club,Lebanon Community Library
GEO:40.3410676;-76.4227409
X-APPLE-STRUCTURED-LOCATION;VALUE=URI;X-ADDRESS=Lebanon Community Library 125 N. 7th St. Lebanon PA 17046 United States;X-APPLE-RADIUS=500;X-TITLE=125 N. 7th St.:geo:-76.4227409,40.3410676
END:VEVENT
BEGIN:VEVENT
DTSTART;TZID=America/New_York:20230530T180000
DTEND;TZID=America/New_York:20230530T200000
DTSTAMP:20260423T025543
CREATED:20180327T171605Z
LAST-MODIFIED:20250619T002843Z
UID:10003381-1685469600-1685476800@lebanon.lclibs.org
SUMMARY:Tuesday Evening Book Group
DESCRIPTION:Meets the last Tuesday of each month at 6pm in the library’s Community Room. The complete title list may be found here.
URL:https://lebanon.lclibs.org/event/tuesday-evening-book-group-2023-05-30/
LOCATION:Lebanon Community Library\, 125 N. 7th St.\, Lebanon\, PA\, 17046\, United States
CATEGORIES:Adult program,Adults,Book Club,Lebanon Community Library
GEO:40.3410676;-76.4227409
X-APPLE-STRUCTURED-LOCATION;VALUE=URI;X-ADDRESS=Lebanon Community Library 125 N. 7th St. Lebanon PA 17046 United States;X-APPLE-RADIUS=500;X-TITLE=125 N. 7th St.:geo:-76.4227409,40.3410676
END:VEVENT
BEGIN:VEVENT
DTSTART;TZID=America/New_York:20230504T140000
DTEND;TZID=America/New_York:20230504T153000
DTSTAMP:20260423T025543
CREATED:20180327T171221Z
LAST-MODIFIED:20251126T141442Z
UID:10000200-1683208800-1683214200@lebanon.lclibs.org
SUMMARY:Thursday Afternoon Book Group
DESCRIPTION:Meets the 1st Thursday of each month at 2pm in the library’s Community Room.
URL:https://lebanon.lclibs.org/event/thursday-afternoon-book-group/2023-05-04/
LOCATION:Lebanon Community Library\, 125 N. 7th St.\, Lebanon\, PA\, 17046\, United States
CATEGORIES:Adult program,Adults,Book Club,Lebanon Community Library
GEO:40.3410676;-76.4227409
X-APPLE-STRUCTURED-LOCATION;VALUE=URI;X-ADDRESS=Lebanon Community Library 125 N. 7th St. Lebanon PA 17046 United States;X-APPLE-RADIUS=500;X-TITLE=125 N. 7th St.:geo:-76.4227409,40.3410676
END:VEVENT
BEGIN:VEVENT
DTSTART;TZID=America/New_York:20230425T180000
DTEND;TZID=America/New_York:20230425T200000
DTSTAMP:20260423T025543
CREATED:20180327T171605Z
LAST-MODIFIED:20250619T002843Z
UID:10003295-1682445600-1682452800@lebanon.lclibs.org
SUMMARY:Tuesday Evening Book Group
DESCRIPTION:Meets the last Tuesday of each month at 6pm in the library’s Community Room. The complete title list may be found here.
URL:https://lebanon.lclibs.org/event/tuesday-evening-book-group-2023-04-25/
LOCATION:Lebanon Community Library\, 125 N. 7th St.\, Lebanon\, PA\, 17046\, United States
CATEGORIES:Adult program,Adults,Book Club,Lebanon Community Library
GEO:40.3410676;-76.4227409
X-APPLE-STRUCTURED-LOCATION;VALUE=URI;X-ADDRESS=Lebanon Community Library 125 N. 7th St. Lebanon PA 17046 United States;X-APPLE-RADIUS=500;X-TITLE=125 N. 7th St.:geo:-76.4227409,40.3410676
END:VEVENT
BEGIN:VEVENT
DTSTART;TZID=America/New_York:20230406T140000
DTEND;TZID=America/New_York:20230406T153000
DTSTAMP:20260423T025543
CREATED:20180327T171221Z
LAST-MODIFIED:20251126T141442Z
UID:10000199-1680789600-1680795000@lebanon.lclibs.org
SUMMARY:Thursday Afternoon Book Group
DESCRIPTION:Meets the 1st Thursday of each month at 2pm in the library’s Community Room.
URL:https://lebanon.lclibs.org/event/thursday-afternoon-book-group/2023-04-06/
LOCATION:Lebanon Community Library\, 125 N. 7th St.\, Lebanon\, PA\, 17046\, United States
CATEGORIES:Adult program,Adults,Book Club,Lebanon Community Library
GEO:40.3410676;-76.4227409
X-APPLE-STRUCTURED-LOCATION;VALUE=URI;X-ADDRESS=Lebanon Community Library 125 N. 7th St. Lebanon PA 17046 United States;X-APPLE-RADIUS=500;X-TITLE=125 N. 7th St.:geo:-76.4227409,40.3410676
END:VEVENT
BEGIN:VEVENT
DTSTART;TZID=America/New_York:20230302T140000
DTEND;TZID=America/New_York:20230302T153000
DTSTAMP:20260423T025543
CREATED:20180327T171221Z
LAST-MODIFIED:20251126T141442Z
UID:10000198-1677765600-1677771000@lebanon.lclibs.org
SUMMARY:Thursday Afternoon Book Group
DESCRIPTION:Meets the 1st Thursday of each month at 2pm in the library’s Community Room.
URL:https://lebanon.lclibs.org/event/thursday-afternoon-book-group/2023-03-02/
LOCATION:Lebanon Community Library\, 125 N. 7th St.\, Lebanon\, PA\, 17046\, United States
CATEGORIES:Adult program,Adults,Book Club,Lebanon Community Library
GEO:40.3410676;-76.4227409
X-APPLE-STRUCTURED-LOCATION;VALUE=URI;X-ADDRESS=Lebanon Community Library 125 N. 7th St. Lebanon PA 17046 United States;X-APPLE-RADIUS=500;X-TITLE=125 N. 7th St.:geo:-76.4227409,40.3410676
END:VEVENT
BEGIN:VEVENT
DTSTART;TZID=America/New_York:20230202T140000
DTEND;TZID=America/New_York:20230202T153000
DTSTAMP:20260423T025543
CREATED:20180327T171221Z
LAST-MODIFIED:20251126T141442Z
UID:10000197-1675346400-1675351800@lebanon.lclibs.org
SUMMARY:Thursday Afternoon Book Group
DESCRIPTION:Meets the 1st Thursday of each month at 2pm in the library’s Community Room.
URL:https://lebanon.lclibs.org/event/thursday-afternoon-book-group/2023-02-02/
LOCATION:Lebanon Community Library\, 125 N. 7th St.\, Lebanon\, PA\, 17046\, United States
CATEGORIES:Adult program,Adults,Book Club,Lebanon Community Library
GEO:40.3410676;-76.4227409
X-APPLE-STRUCTURED-LOCATION;VALUE=URI;X-ADDRESS=Lebanon Community Library 125 N. 7th St. Lebanon PA 17046 United States;X-APPLE-RADIUS=500;X-TITLE=125 N. 7th St.:geo:-76.4227409,40.3410676
END:VEVENT
BEGIN:VEVENT
DTSTART;TZID=America/New_York:20230105T140000
DTEND;TZID=America/New_York:20230105T153000
DTSTAMP:20260423T025543
CREATED:20180327T171221Z
LAST-MODIFIED:20251126T141442Z
UID:10000196-1672927200-1672932600@lebanon.lclibs.org
SUMMARY:Thursday Afternoon Book Group
DESCRIPTION:Meets the 1st Thursday of each month at 2pm in the library’s Community Room.
URL:https://lebanon.lclibs.org/event/thursday-afternoon-book-group/2023-01-05/
LOCATION:Lebanon Community Library\, 125 N. 7th St.\, Lebanon\, PA\, 17046\, United States
CATEGORIES:Adult program,Adults,Book Club,Lebanon Community Library
GEO:40.3410676;-76.4227409
X-APPLE-STRUCTURED-LOCATION;VALUE=URI;X-ADDRESS=Lebanon Community Library 125 N. 7th St. Lebanon PA 17046 United States;X-APPLE-RADIUS=500;X-TITLE=125 N. 7th St.:geo:-76.4227409,40.3410676
END:VEVENT
BEGIN:VEVENT
DTSTART;TZID=America/New_York:20221201T140000
DTEND;TZID=America/New_York:20221201T153000
DTSTAMP:20260423T025543
CREATED:20180327T171221Z
LAST-MODIFIED:20251126T141442Z
UID:10000195-1669903200-1669908600@lebanon.lclibs.org
SUMMARY:Thursday Afternoon Book Group
DESCRIPTION:Meets the 1st Thursday of each month at 2pm in the library’s Community Room.
URL:https://lebanon.lclibs.org/event/thursday-afternoon-book-group/2022-12-01/
LOCATION:Lebanon Community Library\, 125 N. 7th St.\, Lebanon\, PA\, 17046\, United States
CATEGORIES:Adult program,Adults,Book Club,Lebanon Community Library
GEO:40.3410676;-76.4227409
X-APPLE-STRUCTURED-LOCATION;VALUE=URI;X-ADDRESS=Lebanon Community Library 125 N. 7th St. Lebanon PA 17046 United States;X-APPLE-RADIUS=500;X-TITLE=125 N. 7th St.:geo:-76.4227409,40.3410676
END:VEVENT
BEGIN:VEVENT
DTSTART;TZID=America/New_York:20221103T140000
DTEND;TZID=America/New_York:20221103T153000
DTSTAMP:20260423T025543
CREATED:20180327T171221Z
LAST-MODIFIED:20251126T141442Z
UID:10000194-1667484000-1667489400@lebanon.lclibs.org
SUMMARY:Thursday Afternoon Book Group
DESCRIPTION:Meets the 1st Thursday of each month at 2pm in the library’s Community Room.
URL:https://lebanon.lclibs.org/event/thursday-afternoon-book-group/2022-11-03/
LOCATION:Lebanon Community Library\, 125 N. 7th St.\, Lebanon\, PA\, 17046\, United States
CATEGORIES:Adult program,Adults,Book Club,Lebanon Community Library
GEO:40.3410676;-76.4227409
X-APPLE-STRUCTURED-LOCATION;VALUE=URI;X-ADDRESS=Lebanon Community Library 125 N. 7th St. Lebanon PA 17046 United States;X-APPLE-RADIUS=500;X-TITLE=125 N. 7th St.:geo:-76.4227409,40.3410676
END:VEVENT
BEGIN:VEVENT
DTSTART;TZID=America/New_York:20221006T140000
DTEND;TZID=America/New_York:20221006T153000
DTSTAMP:20260423T025543
CREATED:20180327T171221Z
LAST-MODIFIED:20251126T141442Z
UID:10000193-1665064800-1665070200@lebanon.lclibs.org
SUMMARY:Thursday Afternoon Book Group
DESCRIPTION:Meets the 1st Thursday of each month at 2pm in the library’s Community Room.
URL:https://lebanon.lclibs.org/event/thursday-afternoon-book-group/2022-10-06/
LOCATION:Lebanon Community Library\, 125 N. 7th St.\, Lebanon\, PA\, 17046\, United States
CATEGORIES:Adult program,Adults,Book Club,Lebanon Community Library
GEO:40.3410676;-76.4227409
X-APPLE-STRUCTURED-LOCATION;VALUE=URI;X-ADDRESS=Lebanon Community Library 125 N. 7th St. Lebanon PA 17046 United States;X-APPLE-RADIUS=500;X-TITLE=125 N. 7th St.:geo:-76.4227409,40.3410676
END:VEVENT
BEGIN:VEVENT
DTSTART;TZID=America/New_York:20220901T140000
DTEND;TZID=America/New_York:20220901T153000
DTSTAMP:20260423T025543
CREATED:20180327T171221Z
LAST-MODIFIED:20251126T141442Z
UID:10000192-1662040800-1662046200@lebanon.lclibs.org
SUMMARY:Thursday Afternoon Book Group
DESCRIPTION:Meets the 1st Thursday of each month at 2pm in the library’s Community Room.
URL:https://lebanon.lclibs.org/event/thursday-afternoon-book-group/2022-09-01/
LOCATION:Lebanon Community Library\, 125 N. 7th St.\, Lebanon\, PA\, 17046\, United States
CATEGORIES:Adult program,Adults,Book Club,Lebanon Community Library
GEO:40.3410676;-76.4227409
X-APPLE-STRUCTURED-LOCATION;VALUE=URI;X-ADDRESS=Lebanon Community Library 125 N. 7th St. Lebanon PA 17046 United States;X-APPLE-RADIUS=500;X-TITLE=125 N. 7th St.:geo:-76.4227409,40.3410676
END:VEVENT
BEGIN:VEVENT
DTSTART;TZID=America/New_York:20220804T140000
DTEND;TZID=America/New_York:20220804T153000
DTSTAMP:20260423T025543
CREATED:20180327T171221Z
LAST-MODIFIED:20251126T141442Z
UID:10000191-1659621600-1659627000@lebanon.lclibs.org
SUMMARY:Thursday Afternoon Book Group
DESCRIPTION:Meets the 1st Thursday of each month at 2pm in the library’s Community Room.
URL:https://lebanon.lclibs.org/event/thursday-afternoon-book-group/2022-08-04/
LOCATION:Lebanon Community Library\, 125 N. 7th St.\, Lebanon\, PA\, 17046\, United States
CATEGORIES:Adult program,Adults,Book Club,Lebanon Community Library
GEO:40.3410676;-76.4227409
X-APPLE-STRUCTURED-LOCATION;VALUE=URI;X-ADDRESS=Lebanon Community Library 125 N. 7th St. Lebanon PA 17046 United States;X-APPLE-RADIUS=500;X-TITLE=125 N. 7th St.:geo:-76.4227409,40.3410676
END:VEVENT
END:VCALENDAR